Workbook
Name CZ_cs_status: 'Seznamy'!$A$6:$A$7
Name CZ_cs_use_type: 'Seznamy'!$B$6:$B$9
Name CZ_cs_extent_unit: 'Seznamy'!$C$6:$C$13
Name CZ_cs_dose_unit: 'Seznamy'!$D$6:$D$27
Name CZ_cs_quantity_unit: 'Seznamy'!$E$6:$E$10
Name CZ_cs_wind_unit: 'Seznamy'!$F$6:$F$9
Name CZ_cs_wind_direction: 'Seznamy'!$G$6:$G$14
Name CZ_cs_product: 'Seznamy'!$H$6:$H$105
Name CZ_cs_field: 'Seznamy'!$I$6:$I$105
Name CZ_cs_mixing: 'Seznamy'!$L$6:$L$7
Name CZ_cs_efficacy: 'Seznamy'!$M$6:$M$7

Sheet Záznamy
A2: GrangeBook | CZ | Evidence přípravků na ochranu rostlin
A3: Jeden řádek na přípravek a aplikaci. Uveďte přesnou polohu a jednotky. PŘÍKLAD je vyloučen. Nad 200 záznamů rozšiřte všechny vzorce.
A4: Bílé buňky a seznamy lze upravovat; vzorce jsou chráněny bez hesla. Dávky nejsou doporučením použití.
A5: Profesionální použití: evropská pole a § 11 národní vyhlášky. Dávka na tři desetinná místa.
A6: Pole podle citovaných pravidel v uvedeném rozsahu. Pracovní vzor GrangeBook, není úřední ani schválený orgánem.
A7: Prázdný pracovní formulář. Rozsah a zdroje: přiložený XLSX. Připojte požadované originální doklady.
A8: [01] Typ záznamu | B8: [02] Označení aplikace / nádrže | C8: [03] Podnik / provozovatel | D8: [04] Kraj / okres | E8: [05] Datum aplikace | F8: [06] Čas zahájení | G8: [07] Datum ukončení | H8: [08] Čas ukončení | I8: [09] Typ použití | J8: [10] Zkrácený kód DPB / lesní jednotka / parcelní číslo | K8: [11] Čtverec DPB a katastrální území; lesní hospodářský celek a jednotky; poloha a druh objektu podle použití | L8: [12] Plodina / produkt / předmět použití | M8: [13] Úplný obchodní název | N8: [14] Číslo povolení | O8: [15] Použitá dávka | P8: [16] Jednotka dávky | Q8: [17] Ošetřená plocha / množství | R8: [18] Jednotka plochy / množství | S8: [19] Jméno osoby provádějící aplikaci | T8: [20] Poznámky / další podmínky | U8: [21] Označení plodiny / použití EPPO, je-li relevantní | V8: [22] Fáze BBCH, je-li relevantní | W8: [23] Šarže osiva / materiálu, je-li relevantní | X8: [24] IČO, nebo datum narození, nebylo-li IČO přiděleno | Y8: [25] Adresa podnikání / sídla | Z8: [26] Výměra oseté / osázené plodiny (ha, 2 desetinná místa) | AA8: [27] Datum výsevu | AB8: [28] Datum výsadby | AC8: [29] Datum ukončení pěstování | AD8: [30] Cílový organismus / účel | AE8: [31] Použití S / tank-mix TM | AF8: [32] Účinnost: 1 účinné / 0 neúčinné
A9: PŘÍKLAD | B9: PŘÍKLAD-001 | C9: PŘÍKLAD | E9: 46023 | F9: 0.375 | I9: Plošné ošetření | J9: PŘÍKLAD A | K9: PŘÍKLAD | L9: PŘÍKLAD | M9: PŘÍKLAD A | Q9: 1.25 | R9: ha | T9: PŘÍKLAD
A10: ZÁZNAM
A11: ZÁZNAM
A12: ZÁZNAM
A13: ZÁZNAM
A14: ZÁZNAM
A15: ZÁZNAM
A16: ZÁZNAM
A17: ZÁZNAM
A18: ZÁZNAM
A19: ZÁZNAM
A20: ZÁZNAM
A21: ZÁZNAM
... A209: ZÁZNAM

Sheet Souhrn
A2: GrangeBook | CZ | Souhrn
A3: Součty podle přípravku / pozemku a samostatných jednotek, nikoli jedinečná výměra. Prázdné klíče a PŘÍKLAD jsou vyloučeny.
A4: Jeden řádek na přípravek a aplikaci. Uveďte přesnou polohu a jednotky. PŘÍKLAD je vyloučen. Nad 200 záznamů rozšiřte všechny vzorce.
A5: Bílé buňky a seznamy lze upravovat; vzorce jsou chráněny bez hesla. Dávky nejsou doporučením použití.
A6: Neúplné záznamy = Ošetřená plocha / množství / Jednotka plochy / množství
A7: Podle přípravku | G7: Podle pozemku
A8: Úplný obchodní název | B8: ha | C8: acre | D8: m² | E8: Neúplné záznamy | G8: Zkrácený kód DPB / lesní jednotka / parcelní číslo | H8: ha | I8: acre | J8: m² | K8: Neúplné záznamy
A9: =IF(AND('Záznamy'!A9="ZÁZNAM",'Záznamy'!M9<>""),IF(SUMPRODUCT(--('Záznamy'!$M$9:M9='Záznamy'!M9),--('Záznamy'!$A$9:A9="ZÁZNAM"))=1,'Záznamy'!M9,""),"") | B9: =IF($A9="","",SUMPRODUCT(--('Záznamy'!$M$9:$M$209=$A9),--('Záznamy'!$A$9:$A$209="ZÁZNAM"),--('Záznamy'!$R$9:$R$209="ha"),'Záznamy'!$Q$9:$Q$209)) | C9: =IF($A9="","",SUMPRODUCT(--('Záznamy'!$M$9:$M$209=$A9),--('Záznamy'!$A$9:$A$209="ZÁZNAM"),--('Záznamy'!$R$9:$R$209="acre"),'Záznamy'!$Q$9:$Q$209)) | D9: =IF($A9="","",SUMPRODUCT(--('Záznamy'!$M$9:$M$209=$A9),--('Záznamy'!$A$9:$A$209="ZÁZNAM"),--('Záznamy'!$R$9:$R$209="m²"),'Záznamy'!$Q$9:$Q$209)) | E9: =IF($A9="","",SUMPRODUCT(--('Záznamy'!$M$9:$M$209=$A9),--('Záznamy'!$A$9:$A$209="ZÁZNAM"),--('Záznamy'!$Q$9:$Q$209=""))+SUMPRODUCT(--('Záznamy'!$M$9:$M$209=$A9),--('Záznamy'!$A$9:$A$209="ZÁZNAM"),--('Záznamy'!$Q$9:$Q$209<>""),--('Záznamy'!$R$9:$R$209=""))) | G9: =IF(AND('Záznamy'!A9="ZÁZNAM",'Záznamy'!J9<>""),IF(SUMPRODUCT(--('Záznamy'!$J$9:J9='Záznamy'!J9),--('Záznamy'!$A$9:A9="ZÁZNAM"))=1,'Záznamy'!J9,""),"") | H9: =IF($G9="","",SUMPRODUCT(--('Záznamy'!$J$9:$J$209=$G9),--('Záznamy'!$A$9:$A$209="ZÁZNAM"),--('Záznamy'!$R$9:$R$209="ha"),'Záznamy'!$Q$9:$Q$209)) | I9: =IF($G9="","",SUMPRODUCT(--('Záznamy'!$J$9:$J$209=$G9),--('Záznamy'!$A$9:$A$209="ZÁZNAM"),--('Záznamy'!$R$9:$R$209="acre"),'Záznamy'!$Q$9:$Q$209)) | J9: =IF($G9="","",SUMPRODUCT(--('Záznamy'!$J$9:$J$209=$G9),--('Záznamy'!$A$9:$A$209="ZÁZNAM"),--('Záznamy'!$R$9:$R$209="m²"),'Záznamy'!$Q$9:$Q$209)) | K9: =IF($G9="","",SUMPRODUCT(--('Záznamy'!$J$9:$J$209=$G9),--('Záznamy'!$A$9:$A$209="ZÁZNAM"),--('Záznamy'!$Q$9:$Q$209=""))+SUMPRODUCT(--('Záznamy'!$J$9:$J$209=$G9),--('Záznamy'!$A$9:$A$209="ZÁZNAM"),--('Záznamy'!$Q$9:$Q$209<>""),--('Záznamy'!$R$9:$R$209="")))
A10: =IF(AND('Záznamy'!A10="ZÁZNAM",'Záznamy'!M10<>""),IF(SUMPRODUCT(--('Záznamy'!$M$9:M10='Záznamy'!M10),--('Záznamy'!$A$9:A10="ZÁZNAM"))=1,'Záznamy'!M10,""),"") | B10: =IF($A10="","",SUMPRODUCT(--('Záznamy'!$M$9:$M$209=$A10),--('Záznamy'!$A$9:$A$209="ZÁZNAM"),--('Záznamy'!$R$9:$R$209="ha"),'Záznamy'!$Q$9:$Q$209)) | C10: =IF($A10="","",SUMPRODUCT(--('Záznamy'!$M$9:$M$209=$A10),--('Záznamy'!$A$9:$A$209="ZÁZNAM"),--('Záznamy'!$R$9:$R$209="acre"),'Záznamy'!$Q$9:$Q$209)) | D10: =IF($A10="","",SUMPRODUCT(--('Záznamy'!$M$9:$M$209=$A10),--('Záznamy'!$A$9:$A$209="ZÁZNAM"),--('Záznamy'!$R$9:$R$209="m²"),'Záznamy'!$Q$9:$Q$209)) | E10: =IF($A10="","",SUMPRODUCT(--('Záznamy'!$M$9:$M$209=$A10),--('Záznamy'!$A$9:$A$209="ZÁZNAM"),--('Záznamy'!$Q$9:$Q$209=""))+SUMPRODUCT(--('Záznamy'!$M$9:$M$209=$A10),--('Záznamy'!$A$9:$A$209="ZÁZNAM"),--('Záznamy'!$Q$9:$Q$209<>""),--('Záznamy'!$R$9:$R$209=""))) | G10: =IF(AND('Záznamy'!A10="ZÁZNAM",'Záznamy'!J10<>""),IF(SUMPRODUCT(--('Záznamy'!$J$9:J10='Záznamy'!J10),--('Záznamy'!$A$9:A10="ZÁZNAM"))=1,'Záznamy'!J10,""),"") | H10: =IF($G10="","",SUMPRODUCT(--('Záznamy'!$J$9:$J$209=$G10),--('Záznamy'!$A$9:$A$209="ZÁZNAM"),--('Záznamy'!$R$9:$R$209="ha"),'Záznamy'!$Q$9:$Q$209)) | I10: =IF($G10="","",SUMPRODUCT(--('Záznamy'!$J$9:$J$209=$G10),--('Záznamy'!$A$9:$A$209="ZÁZNAM"),--('Záznamy'!$R$9:$R$209="acre"),'Záznamy'!$Q$9:$Q$209)) | J10: =IF($G10="","",SUMPRODUCT(--('Záznamy'!$J$9:$J$209=$G10),--('Záznamy'!$A$9:$A$209="ZÁZNAM"),--('Záznamy'!$R$9:$R$209="m²"),'Záznamy'!$Q$9:$Q$209)) | K10: =IF($G10="","",SUMPRODUCT(--('Záznamy'!$J$9:$J$209=$G10),--('Záznamy'!$A$9:$A$209="ZÁZNAM"),--('Záznamy'!$Q$9:$Q$209=""))+SUMPRODUCT(--('Záznamy'!$J$9:$J$209=$G10),--('Záznamy'!$A$9:$A$209="ZÁZNAM"),--('Záznamy'!$Q$9:$Q$209<>""),--('Záznamy'!$R$9:$R$209="")))
A11: =IF(AND('Záznamy'!A11="ZÁZNAM",'Záznamy'!M11<>""),IF(SUMPRODUCT(--('Záznamy'!$M$9:M11='Záznamy'!M11),--('Záznamy'!$A$9:A11="ZÁZNAM"))=1,'Záznamy'!M11,""),"") | B11: =IF($A11="","",SUMPRODUCT(--('Záznamy'!$M$9:$M$209=$A11),--('Záznamy'!$A$9:$A$209="ZÁZNAM"),--('Záznamy'!$R$9:$R$209="ha"),'Záznamy'!$Q$9:$Q$209)) | C11: =IF($A11="","",SUMPRODUCT(--('Záznamy'!$M$9:$M$209=$A11),--('Záznamy'!$A$9:$A$209="ZÁZNAM"),--('Záznamy'!$R$9:$R$209="acre"),'Záznamy'!$Q$9:$Q$209)) | D11: =IF($A11="","",SUMPRODUCT(--('Záznamy'!$M$9:$M$209=$A11),--('Záznamy'!$A$9:$A$209="ZÁZNAM"),--('Záznamy'!$R$9:$R$209="m²"),'Záznamy'!$Q$9:$Q$209)) | E11: =IF($A11="","",SUMPRODUCT(--('Záznamy'!$M$9:$M$209=$A11),--('Záznamy'!$A$9:$A$209="ZÁZNAM"),--('Záznamy'!$Q$9:$Q$209=""))+SUMPRODUCT(--('Záznamy'!$M$9:$M$209=$A11),--('Záznamy'!$A$9:$A$209="ZÁZNAM"),--('Záznamy'!$Q$9:$Q$209<>""),--('Záznamy'!$R$9:$R$209=""))) | G11: =IF(AND('Záznamy'!A11="ZÁZNAM",'Záznamy'!J11<>""),IF(SUMPRODUCT(--('Záznamy'!$J$9:J11='Záznamy'!J11),--('Záznamy'!$A$9:A11="ZÁZNAM"))=1,'Záznamy'!J11,""),"") | H11: =IF($G11="","",SUMPRODUCT(--('Záznamy'!$J$9:$J$209=$G11),--('Záznamy'!$A$9:$A$209="ZÁZNAM"),--('Záznamy'!$R$9:$R$209="ha"),'Záznamy'!$Q$9:$Q$209)) | I11: =IF($G11="","",SUMPRODUCT(--('Záznamy'!$J$9:$J$209=$G11),--('Záznamy'!$A$9:$A$209="ZÁZNAM"),--('Záznamy'!$R$9:$R$209="acre"),'Záznamy'!$Q$9:$Q$209)) | J11: =IF($G11="","",SUMPRODUCT(--('Záznamy'!$J$9:$J$209=$G11),--('Záznamy'!$A$9:$A$209="ZÁZNAM"),--('Záznamy'!$R$9:$R$209="m²"),'Záznamy'!$Q$9:$Q$209)) | K11: =IF($G11="","",SUMPRODUCT(--('Záznamy'!$J$9:$J$209=$G11),--('Záznamy'!$A$9:$A$209="ZÁZNAM"),--('Záznamy'!$Q$9:$Q$209=""))+SUMPRODUCT(--('Záznamy'!$J$9:$J$209=$G11),--('Záznamy'!$A$9:$A$209="ZÁZNAM"),--('Záznamy'!$Q$9:$Q$209<>""),--('Záznamy'!$R$9:$R$209="")))
A12: =IF(AND('Záznamy'!A12="ZÁZNAM",'Záznamy'!M12<>""),IF(SUMPRODUCT(--('Záznamy'!$M$9:M12='Záznamy'!M12),--('Záznamy'!$A$9:A12="ZÁZNAM"))=1,'Záznamy'!M12,""),"") | B12: =IF($A12="","",SUMPRODUCT(--('Záznamy'!$M$9:$M$209=$A12),--('Záznamy'!$A$9:$A$209="ZÁZNAM"),--('Záznamy'!$R$9:$R$209="ha"),'Záznamy'!$Q$9:$Q$209)) | C12: =IF($A12="","",SUMPRODUCT(--('Záznamy'!$M$9:$M$209=$A12),--('Záznamy'!$A$9:$A$209="ZÁZNAM"),--('Záznamy'!$R$9:$R$209="acre"),'Záznamy'!$Q$9:$Q$209)) | D12: =IF($A12="","",SUMPRODUCT(--('Záznamy'!$M$9:$M$209=$A12),--('Záznamy'!$A$9:$A$209="ZÁZNAM"),--('Záznamy'!$R$9:$R$209="m²"),'Záznamy'!$Q$9:$Q$209)) | E12: =IF($A12="","",SUMPRODUCT(--('Záznamy'!$M$9:$M$209=$A12),--('Záznamy'!$A$9:$A$209="ZÁZNAM"),--('Záznamy'!$Q$9:$Q$209=""))+SUMPRODUCT(--('Záznamy'!$M$9:$M$209=$A12),--('Záznamy'!$A$9:$A$209="ZÁZNAM"),--('Záznamy'!$Q$9:$Q$209<>""),--('Záznamy'!$R$9:$R$209=""))) | G12: =IF(AND('Záznamy'!A12="ZÁZNAM",'Záznamy'!J12<>""),IF(SUMPRODUCT(--('Záznamy'!$J$9:J12='Záznamy'!J12),--('Záznamy'!$A$9:A12="ZÁZNAM"))=1,'Záznamy'!J12,""),"") | H12: =IF($G12="","",SUMPRODUCT(--('Záznamy'!$J$9:$J$209=$G12),--('Záznamy'!$A$9:$A$209="ZÁZNAM"),--('Záznamy'!$R$9:$R$209="ha"),'Záznamy'!$Q$9:$Q$209)) | I12: =IF($G12="","",SUMPRODUCT(--('Záznamy'!$J$9:$J$209=$G12),--('Záznamy'!$A$9:$A$209="ZÁZNAM"),--('Záznamy'!$R$9:$R$209="acre"),'Záznamy'!$Q$9:$Q$209)) | J12: =IF($G12="","",SUMPRODUCT(--('Záznamy'!$J$9:$J$209=$G12),--('Záznamy'!$A$9:$A$209="ZÁZNAM"),--('Záznamy'!$R$9:$R$209="m²"),'Záznamy'!$Q$9:$Q$209)) | K12: =IF($G12="","",SUMPRODUCT(--('Záznamy'!$J$9:$J$209=$G12),--('Záznamy'!$A$9:$A$209="ZÁZNAM"),--('Záznamy'!$Q$9:$Q$209=""))+SUMPRODUCT(--('Záznamy'!$J$9:$J$209=$G12),--('Záznamy'!$A$9:$A$209="ZÁZNAM"),--('Záznamy'!$Q$9:$Q$209<>""),--('Záznamy'!$R$9:$R$209="")))
A13: =IF(AND('Záznamy'!A13="ZÁZNAM",'Záznamy'!M13<>""),IF(SUMPRODUCT(--('Záznamy'!$M$9:M13='Záznamy'!M13),--('Záznamy'!$A$9:A13="ZÁZNAM"))=1,'Záznamy'!M13,""),"") | B13: =IF($A13="","",SUMPRODUCT(--('Záznamy'!$M$9:$M$209=$A13),--('Záznamy'!$A$9:$A$209="ZÁZNAM"),--('Záznamy'!$R$9:$R$209="ha"),'Záznamy'!$Q$9:$Q$209)) | C13: =IF($A13="","",SUMPRODUCT(--('Záznamy'!$M$9:$M$209=$A13),--('Záznamy'!$A$9:$A$209="ZÁZNAM"),--('Záznamy'!$R$9:$R$209="acre"),'Záznamy'!$Q$9:$Q$209)) | D13: =IF($A13="","",SUMPRODUCT(--('Záznamy'!$M$9:$M$209=$A13),--('Záznamy'!$A$9:$A$209="ZÁZNAM"),--('Záznamy'!$R$9:$R$209="m²"),'Záznamy'!$Q$9:$Q$209)) | E13: =IF($A13="","",SUMPRODUCT(--('Záznamy'!$M$9:$M$209=$A13),--('Záznamy'!$A$9:$A$209="ZÁZNAM"),--('Záznamy'!$Q$9:$Q$209=""))+SUMPRODUCT(--('Záznamy'!$M$9:$M$209=$A13),--('Záznamy'!$A$9:$A$209="ZÁZNAM"),--('Záznamy'!$Q$9:$Q$209<>""),--('Záznamy'!$R$9:$R$209=""))) | G13: =IF(AND('Záznamy'!A13="ZÁZNAM",'Záznamy'!J13<>""),IF(SUMPRODUCT(--('Záznamy'!$J$9:J13='Záznamy'!J13),--('Záznamy'!$A$9:A13="ZÁZNAM"))=1,'Záznamy'!J13,""),"") | H13: =IF($G13="","",SUMPRODUCT(--('Záznamy'!$J$9:$J$209=$G13),--('Záznamy'!$A$9:$A$209="ZÁZNAM"),--('Záznamy'!$R$9:$R$209="ha"),'Záznamy'!$Q$9:$Q$209)) | I13: =IF($G13="","",SUMPRODUCT(--('Záznamy'!$J$9:$J$209=$G13),--('Záznamy'!$A$9:$A$209="ZÁZNAM"),--('Záznamy'!$R$9:$R$209="acre"),'Záznamy'!$Q$9:$Q$209)) | J13: =IF($G13="","",SUMPRODUCT(--('Záznamy'!$J$9:$J$209=$G13),--('Záznamy'!$A$9:$A$209="ZÁZNAM"),--('Záznamy'!$R$9:$R$209="m²"),'Záznamy'!$Q$9:$Q$209)) | K13: =IF($G13="","",SUMPRODUCT(--('Záznamy'!$J$9:$J$209=$G13),--('Záznamy'!$A$9:$A$209="ZÁZNAM"),--('Záznamy'!$Q$9:$Q$209=""))+SUMPRODUCT(--('Záznamy'!$J$9:$J$209=$G13),--('Záznamy'!$A$9:$A$209="ZÁZNAM"),--('Záznamy'!$Q$9:$Q$209<>""),--('Záznamy'!$R$9:$R$209="")))
A14: =IF(AND('Záznamy'!A14="ZÁZNAM",'Záznamy'!M14<>""),IF(SUMPRODUCT(--('Záznamy'!$M$9:M14='Záznamy'!M14),--('Záznamy'!$A$9:A14="ZÁZNAM"))=1,'Záznamy'!M14,""),"") | B14: =IF($A14="","",SUMPRODUCT(--('Záznamy'!$M$9:$M$209=$A14),--('Záznamy'!$A$9:$A$209="ZÁZNAM"),--('Záznamy'!$R$9:$R$209="ha"),'Záznamy'!$Q$9:$Q$209)) | C14: =IF($A14="","",SUMPRODUCT(--('Záznamy'!$M$9:$M$209=$A14),--('Záznamy'!$A$9:$A$209="ZÁZNAM"),--('Záznamy'!$R$9:$R$209="acre"),'Záznamy'!$Q$9:$Q$209)) | D14: =IF($A14="","",SUMPRODUCT(--('Záznamy'!$M$9:$M$209=$A14),--('Záznamy'!$A$9:$A$209="ZÁZNAM"),--('Záznamy'!$R$9:$R$209="m²"),'Záznamy'!$Q$9:$Q$209)) | E14: =IF($A14="","",SUMPRODUCT(--('Záznamy'!$M$9:$M$209=$A14),--('Záznamy'!$A$9:$A$209="ZÁZNAM"),--('Záznamy'!$Q$9:$Q$209=""))+SUMPRODUCT(--('Záznamy'!$M$9:$M$209=$A14),--('Záznamy'!$A$9:$A$209="ZÁZNAM"),--('Záznamy'!$Q$9:$Q$209<>""),--('Záznamy'!$R$9:$R$209=""))) | G14: =IF(AND('Záznamy'!A14="ZÁZNAM",'Záznamy'!J14<>""),IF(SUMPRODUCT(--('Záznamy'!$J$9:J14='Záznamy'!J14),--('Záznamy'!$A$9:A14="ZÁZNAM"))=1,'Záznamy'!J14,""),"") | H14: =IF($G14="","",SUMPRODUCT(--('Záznamy'!$J$9:$J$209=$G14),--('Záznamy'!$A$9:$A$209="ZÁZNAM"),--('Záznamy'!$R$9:$R$209="ha"),'Záznamy'!$Q$9:$Q$209)) | I14: =IF($G14="","",SUMPRODUCT(--('Záznamy'!$J$9:$J$209=$G14),--('Záznamy'!$A$9:$A$209="ZÁZNAM"),--('Záznamy'!$R$9:$R$209="acre"),'Záznamy'!$Q$9:$Q$209)) | J14: =IF($G14="","",SUMPRODUCT(--('Záznamy'!$J$9:$J$209=$G14),--('Záznamy'!$A$9:$A$209="ZÁZNAM"),--('Záznamy'!$R$9:$R$209="m²"),'Záznamy'!$Q$9:$Q$209)) | K14: =IF($G14="","",SUMPRODUCT(--('Záznamy'!$J$9:$J$209=$G14),--('Záznamy'!$A$9:$A$209="ZÁZNAM"),--('Záznamy'!$Q$9:$Q$209=""))+SUMPRODUCT(--('Záznamy'!$J$9:$J$209=$G14),--('Záznamy'!$A$9:$A$209="ZÁZNAM"),--('Záznamy'!$Q$9:$Q$209<>""),--('Záznamy'!$R$9:$R$209="")))
A15: =IF(AND('Záznamy'!A15="ZÁZNAM",'Záznamy'!M15<>""),IF(SUMPRODUCT(--('Záznamy'!$M$9:M15='Záznamy'!M15),--('Záznamy'!$A$9:A15="ZÁZNAM"))=1,'Záznamy'!M15,""),"") | B15: =IF($A15="","",SUMPRODUCT(--('Záznamy'!$M$9:$M$209=$A15),--('Záznamy'!$A$9:$A$209="ZÁZNAM"),--('Záznamy'!$R$9:$R$209="ha"),'Záznamy'!$Q$9:$Q$209)) | C15: =IF($A15="","",SUMPRODUCT(--('Záznamy'!$M$9:$M$209=$A15),--('Záznamy'!$A$9:$A$209="ZÁZNAM"),--('Záznamy'!$R$9:$R$209="acre"),'Záznamy'!$Q$9:$Q$209)) | D15: =IF($A15="","",SUMPRODUCT(--('Záznamy'!$M$9:$M$209=$A15),--('Záznamy'!$A$9:$A$209="ZÁZNAM"),--('Záznamy'!$R$9:$R$209="m²"),'Záznamy'!$Q$9:$Q$209)) | E15: =IF($A15="","",SUMPRODUCT(--('Záznamy'!$M$9:$M$209=$A15),--('Záznamy'!$A$9:$A$209="ZÁZNAM"),--('Záznamy'!$Q$9:$Q$209=""))+SUMPRODUCT(--('Záznamy'!$M$9:$M$209=$A15),--('Záznamy'!$A$9:$A$209="ZÁZNAM"),--('Záznamy'!$Q$9:$Q$209<>""),--('Záznamy'!$R$9:$R$209=""))) | G15: =IF(AND('Záznamy'!A15="ZÁZNAM",'Záznamy'!J15<>""),IF(SUMPRODUCT(--('Záznamy'!$J$9:J15='Záznamy'!J15),--('Záznamy'!$A$9:A15="ZÁZNAM"))=1,'Záznamy'!J15,""),"") | H15: =IF($G15="","",SUMPRODUCT(--('Záznamy'!$J$9:$J$209=$G15),--('Záznamy'!$A$9:$A$209="ZÁZNAM"),--('Záznamy'!$R$9:$R$209="ha"),'Záznamy'!$Q$9:$Q$209)) | I15: =IF($G15="","",SUMPRODUCT(--('Záznamy'!$J$9:$J$209=$G15),--('Záznamy'!$A$9:$A$209="ZÁZNAM"),--('Záznamy'!$R$9:$R$209="acre"),'Záznamy'!$Q$9:$Q$209)) | J15: =IF($G15="","",SUMPRODUCT(--('Záznamy'!$J$9:$J$209=$G15),--('Záznamy'!$A$9:$A$209="ZÁZNAM"),--('Záznamy'!$R$9:$R$209="m²"),'Záznamy'!$Q$9:$Q$209)) | K15: =IF($G15="","",SUMPRODUCT(--('Záznamy'!$J$9:$J$209=$G15),--('Záznamy'!$A$9:$A$209="ZÁZNAM"),--('Záznamy'!$Q$9:$Q$209=""))+SUMPRODUCT(--('Záznamy'!$J$9:$J$209=$G15),--('Záznamy'!$A$9:$A$209="ZÁZNAM"),--('Záznamy'!$Q$9:$Q$209<>""),--('Záznamy'!$R$9:$R$209="")))
A16: =IF(AND('Záznamy'!A16="ZÁZNAM",'Záznamy'!M16<>""),IF(SUMPRODUCT(--('Záznamy'!$M$9:M16='Záznamy'!M16),--('Záznamy'!$A$9:A16="ZÁZNAM"))=1,'Záznamy'!M16,""),"") | B16: =IF($A16="","",SUMPRODUCT(--('Záznamy'!$M$9:$M$209=$A16),--('Záznamy'!$A$9:$A$209="ZÁZNAM"),--('Záznamy'!$R$9:$R$209="ha"),'Záznamy'!$Q$9:$Q$209)) | C16: =IF($A16="","",SUMPRODUCT(--('Záznamy'!$M$9:$M$209=$A16),--('Záznamy'!$A$9:$A$209="ZÁZNAM"),--('Záznamy'!$R$9:$R$209="acre"),'Záznamy'!$Q$9:$Q$209)) | D16: =IF($A16="","",SUMPRODUCT(--('Záznamy'!$M$9:$M$209=$A16),--('Záznamy'!$A$9:$A$209="ZÁZNAM"),--('Záznamy'!$R$9:$R$209="m²"),'Záznamy'!$Q$9:$Q$209)) | E16: =IF($A16="","",SUMPRODUCT(--('Záznamy'!$M$9:$M$209=$A16),--('Záznamy'!$A$9:$A$209="ZÁZNAM"),--('Záznamy'!$Q$9:$Q$209=""))+SUMPRODUCT(--('Záznamy'!$M$9:$M$209=$A16),--('Záznamy'!$A$9:$A$209="ZÁZNAM"),--('Záznamy'!$Q$9:$Q$209<>""),--('Záznamy'!$R$9:$R$209=""))) | G16: =IF(AND('Záznamy'!A16="ZÁZNAM",'Záznamy'!J16<>""),IF(SUMPRODUCT(--('Záznamy'!$J$9:J16='Záznamy'!J16),--('Záznamy'!$A$9:A16="ZÁZNAM"))=1,'Záznamy'!J16,""),"") | H16: =IF($G16="","",SUMPRODUCT(--('Záznamy'!$J$9:$J$209=$G16),--('Záznamy'!$A$9:$A$209="ZÁZNAM"),--('Záznamy'!$R$9:$R$209="ha"),'Záznamy'!$Q$9:$Q$209)) | I16: =IF($G16="","",SUMPRODUCT(--('Záznamy'!$J$9:$J$209=$G16),--('Záznamy'!$A$9:$A$209="ZÁZNAM"),--('Záznamy'!$R$9:$R$209="acre"),'Záznamy'!$Q$9:$Q$209)) | J16: =IF($G16="","",SUMPRODUCT(--('Záznamy'!$J$9:$J$209=$G16),--('Záznamy'!$A$9:$A$209="ZÁZNAM"),--('Záznamy'!$R$9:$R$209="m²"),'Záznamy'!$Q$9:$Q$209)) | K16: =IF($G16="","",SUMPRODUCT(--('Záznamy'!$J$9:$J$209=$G16),--('Záznamy'!$A$9:$A$209="ZÁZNAM"),--('Záznamy'!$Q$9:$Q$209=""))+SUMPRODUCT(--('Záznamy'!$J$9:$J$209=$G16),--('Záznamy'!$A$9:$A$209="ZÁZNAM"),--('Záznamy'!$Q$9:$Q$209<>""),--('Záznamy'!$R$9:$R$209="")))
A17: =IF(AND('Záznamy'!A17="ZÁZNAM",'Záznamy'!M17<>""),IF(SUMPRODUCT(--('Záznamy'!$M$9:M17='Záznamy'!M17),--('Záznamy'!$A$9:A17="ZÁZNAM"))=1,'Záznamy'!M17,""),"") | B17: =IF($A17="","",SUMPRODUCT(--('Záznamy'!$M$9:$M$209=$A17),--('Záznamy'!$A$9:$A$209="ZÁZNAM"),--('Záznamy'!$R$9:$R$209="ha"),'Záznamy'!$Q$9:$Q$209)) | C17: =IF($A17="","",SUMPRODUCT(--('Záznamy'!$M$9:$M$209=$A17),--('Záznamy'!$A$9:$A$209="ZÁZNAM"),--('Záznamy'!$R$9:$R$209="acre"),'Záznamy'!$Q$9:$Q$209)) | D17: =IF($A17="","",SUMPRODUCT(--('Záznamy'!$M$9:$M$209=$A17),--('Záznamy'!$A$9:$A$209="ZÁZNAM"),--('Záznamy'!$R$9:$R$209="m²"),'Záznamy'!$Q$9:$Q$209)) | E17: =IF($A17="","",SUMPRODUCT(--('Záznamy'!$M$9:$M$209=$A17),--('Záznamy'!$A$9:$A$209="ZÁZNAM"),--('Záznamy'!$Q$9:$Q$209=""))+SUMPRODUCT(--('Záznamy'!$M$9:$M$209=$A17),--('Záznamy'!$A$9:$A$209="ZÁZNAM"),--('Záznamy'!$Q$9:$Q$209<>""),--('Záznamy'!$R$9:$R$209=""))) | G17: =IF(AND('Záznamy'!A17="ZÁZNAM",'Záznamy'!J17<>""),IF(SUMPRODUCT(--('Záznamy'!$J$9:J17='Záznamy'!J17),--('Záznamy'!$A$9:A17="ZÁZNAM"))=1,'Záznamy'!J17,""),"") | H17: =IF($G17="","",SUMPRODUCT(--('Záznamy'!$J$9:$J$209=$G17),--('Záznamy'!$A$9:$A$209="ZÁZNAM"),--('Záznamy'!$R$9:$R$209="ha"),'Záznamy'!$Q$9:$Q$209)) | I17: =IF($G17="","",SUMPRODUCT(--('Záznamy'!$J$9:$J$209=$G17),--('Záznamy'!$A$9:$A$209="ZÁZNAM"),--('Záznamy'!$R$9:$R$209="acre"),'Záznamy'!$Q$9:$Q$209)) | J17: =IF($G17="","",SUMPRODUCT(--('Záznamy'!$J$9:$J$209=$G17),--('Záznamy'!$A$9:$A$209="ZÁZNAM"),--('Záznamy'!$R$9:$R$209="m²"),'Záznamy'!$Q$9:$Q$209)) | K17: =IF($G17="","",SUMPRODUCT(--('Záznamy'!$J$9:$J$209=$G17),--('Záznamy'!$A$9:$A$209="ZÁZNAM"),--('Záznamy'!$Q$9:$Q$209=""))+SUMPRODUCT(--('Záznamy'!$J$9:$J$209=$G17),--('Záznamy'!$A$9:$A$209="ZÁZNAM"),--('Záznamy'!$Q$9:$Q$209<>""),--('Záznamy'!$R$9:$R$209="")))
A18: =IF(AND('Záznamy'!A18="ZÁZNAM",'Záznamy'!M18<>""),IF(SUMPRODUCT(--('Záznamy'!$M$9:M18='Záznamy'!M18),--('Záznamy'!$A$9:A18="ZÁZNAM"))=1,'Záznamy'!M18,""),"") | B18: =IF($A18="","",SUMPRODUCT(--('Záznamy'!$M$9:$M$209=$A18),--('Záznamy'!$A$9:$A$209="ZÁZNAM"),--('Záznamy'!$R$9:$R$209="ha"),'Záznamy'!$Q$9:$Q$209)) | C18: =IF($A18="","",SUMPRODUCT(--('Záznamy'!$M$9:$M$209=$A18),--('Záznamy'!$A$9:$A$209="ZÁZNAM"),--('Záznamy'!$R$9:$R$209="acre"),'Záznamy'!$Q$9:$Q$209)) | D18: =IF($A18="","",SUMPRODUCT(--('Záznamy'!$M$9:$M$209=$A18),--('Záznamy'!$A$9:$A$209="ZÁZNAM"),--('Záznamy'!$R$9:$R$209="m²"),'Záznamy'!$Q$9:$Q$209)) | E18: =IF($A18="","",SUMPRODUCT(--('Záznamy'!$M$9:$M$209=$A18),--('Záznamy'!$A$9:$A$209="ZÁZNAM"),--('Záznamy'!$Q$9:$Q$209=""))+SUMPRODUCT(--('Záznamy'!$M$9:$M$209=$A18),--('Záznamy'!$A$9:$A$209="ZÁZNAM"),--('Záznamy'!$Q$9:$Q$209<>""),--('Záznamy'!$R$9:$R$209=""))) | G18: =IF(AND('Záznamy'!A18="ZÁZNAM",'Záznamy'!J18<>""),IF(SUMPRODUCT(--('Záznamy'!$J$9:J18='Záznamy'!J18),--('Záznamy'!$A$9:A18="ZÁZNAM"))=1,'Záznamy'!J18,""),"") | H18: =IF($G18="","",SUMPRODUCT(--('Záznamy'!$J$9:$J$209=$G18),--('Záznamy'!$A$9:$A$209="ZÁZNAM"),--('Záznamy'!$R$9:$R$209="ha"),'Záznamy'!$Q$9:$Q$209)) | I18: =IF($G18="","",SUMPRODUCT(--('Záznamy'!$J$9:$J$209=$G18),--('Záznamy'!$A$9:$A$209="ZÁZNAM"),--('Záznamy'!$R$9:$R$209="acre"),'Záznamy'!$Q$9:$Q$209)) | J18: =IF($G18="","",SUMPRODUCT(--('Záznamy'!$J$9:$J$209=$G18),--('Záznamy'!$A$9:$A$209="ZÁZNAM"),--('Záznamy'!$R$9:$R$209="m²"),'Záznamy'!$Q$9:$Q$209)) | K18: =IF($G18="","",SUMPRODUCT(--('Záznamy'!$J$9:$J$209=$G18),--('Záznamy'!$A$9:$A$209="ZÁZNAM"),--('Záznamy'!$Q$9:$Q$209=""))+SUMPRODUCT(--('Záznamy'!$J$9:$J$209=$G18),--('Záznamy'!$A$9:$A$209="ZÁZNAM"),--('Záznamy'!$Q$9:$Q$209<>""),--('Záznamy'!$R$9:$R$209="")))
A19: =IF(AND('Záznamy'!A19="ZÁZNAM",'Záznamy'!M19<>""),IF(SUMPRODUCT(--('Záznamy'!$M$9:M19='Záznamy'!M19),--('Záznamy'!$A$9:A19="ZÁZNAM"))=1,'Záznamy'!M19,""),"") | B19: =IF($A19="","",SUMPRODUCT(--('Záznamy'!$M$9:$M$209=$A19),--('Záznamy'!$A$9:$A$209="ZÁZNAM"),--('Záznamy'!$R$9:$R$209="ha"),'Záznamy'!$Q$9:$Q$209)) | C19: =IF($A19="","",SUMPRODUCT(--('Záznamy'!$M$9:$M$209=$A19),--('Záznamy'!$A$9:$A$209="ZÁZNAM"),--('Záznamy'!$R$9:$R$209="acre"),'Záznamy'!$Q$9:$Q$209)) | D19: =IF($A19="","",SUMPRODUCT(--('Záznamy'!$M$9:$M$209=$A19),--('Záznamy'!$A$9:$A$209="ZÁZNAM"),--('Záznamy'!$R$9:$R$209="m²"),'Záznamy'!$Q$9:$Q$209)) | E19: =IF($A19="","",SUMPRODUCT(--('Záznamy'!$M$9:$M$209=$A19),--('Záznamy'!$A$9:$A$209="ZÁZNAM"),--('Záznamy'!$Q$9:$Q$209=""))+SUMPRODUCT(--('Záznamy'!$M$9:$M$209=$A19),--('Záznamy'!$A$9:$A$209="ZÁZNAM"),--('Záznamy'!$Q$9:$Q$209<>""),--('Záznamy'!$R$9:$R$209=""))) | G19: =IF(AND('Záznamy'!A19="ZÁZNAM",'Záznamy'!J19<>""),IF(SUMPRODUCT(--('Záznamy'!$J$9:J19='Záznamy'!J19),--('Záznamy'!$A$9:A19="ZÁZNAM"))=1,'Záznamy'!J19,""),"") | H19: =IF($G19="","",SUMPRODUCT(--('Záznamy'!$J$9:$J$209=$G19),--('Záznamy'!$A$9:$A$209="ZÁZNAM"),--('Záznamy'!$R$9:$R$209="ha"),'Záznamy'!$Q$9:$Q$209)) | I19: =IF($G19="","",SUMPRODUCT(--('Záznamy'!$J$9:$J$209=$G19),--('Záznamy'!$A$9:$A$209="ZÁZNAM"),--('Záznamy'!$R$9:$R$209="acre"),'Záznamy'!$Q$9:$Q$209)) | J19: =IF($G19="","",SUMPRODUCT(--('Záznamy'!$J$9:$J$209=$G19),--('Záznamy'!$A$9:$A$209="ZÁZNAM"),--('Záznamy'!$R$9:$R$209="m²"),'Záznamy'!$Q$9:$Q$209)) | K19: =IF($G19="","",SUMPRODUCT(--('Záznamy'!$J$9:$J$209=$G19),--('Záznamy'!$A$9:$A$209="ZÁZNAM"),--('Záznamy'!$Q$9:$Q$209=""))+SUMPRODUCT(--('Záznamy'!$J$9:$J$209=$G19),--('Záznamy'!$A$9:$A$209="ZÁZNAM"),--('Záznamy'!$Q$9:$Q$209<>""),--('Záznamy'!$R$9:$R$209="")))
A20: =IF(AND('Záznamy'!A20="ZÁZNAM",'Záznamy'!M20<>""),IF(SUMPRODUCT(--('Záznamy'!$M$9:M20='Záznamy'!M20),--('Záznamy'!$A$9:A20="ZÁZNAM"))=1,'Záznamy'!M20,""),"") | B20: =IF($A20="","",SUMPRODUCT(--('Záznamy'!$M$9:$M$209=$A20),--('Záznamy'!$A$9:$A$209="ZÁZNAM"),--('Záznamy'!$R$9:$R$209="ha"),'Záznamy'!$Q$9:$Q$209)) | C20: =IF($A20="","",SUMPRODUCT(--('Záznamy'!$M$9:$M$209=$A20),--('Záznamy'!$A$9:$A$209="ZÁZNAM"),--('Záznamy'!$R$9:$R$209="acre"),'Záznamy'!$Q$9:$Q$209)) | D20: =IF($A20="","",SUMPRODUCT(--('Záznamy'!$M$9:$M$209=$A20),--('Záznamy'!$A$9:$A$209="ZÁZNAM"),--('Záznamy'!$R$9:$R$209="m²"),'Záznamy'!$Q$9:$Q$209)) | E20: =IF($A20="","",SUMPRODUCT(--('Záznamy'!$M$9:$M$209=$A20),--('Záznamy'!$A$9:$A$209="ZÁZNAM"),--('Záznamy'!$Q$9:$Q$209=""))+SUMPRODUCT(--('Záznamy'!$M$9:$M$209=$A20),--('Záznamy'!$A$9:$A$209="ZÁZNAM"),--('Záznamy'!$Q$9:$Q$209<>""),--('Záznamy'!$R$9:$R$209=""))) | G20: =IF(AND('Záznamy'!A20="ZÁZNAM",'Záznamy'!J20<>""),IF(SUMPRODUCT(--('Záznamy'!$J$9:J20='Záznamy'!J20),--('Záznamy'!$A$9:A20="ZÁZNAM"))=1,'Záznamy'!J20,""),"") | H20: =IF($G20="","",SUMPRODUCT(--('Záznamy'!$J$9:$J$209=$G20),--('Záznamy'!$A$9:$A$209="ZÁZNAM"),--('Záznamy'!$R$9:$R$209="ha"),'Záznamy'!$Q$9:$Q$209)) | I20: =IF($G20="","",SUMPRODUCT(--('Záznamy'!$J$9:$J$209=$G20),--('Záznamy'!$A$9:$A$209="ZÁZNAM"),--('Záznamy'!$R$9:$R$209="acre"),'Záznamy'!$Q$9:$Q$209)) | J20: =IF($G20="","",SUMPRODUCT(--('Záznamy'!$J$9:$J$209=$G20),--('Záznamy'!$A$9:$A$209="ZÁZNAM"),--('Záznamy'!$R$9:$R$209="m²"),'Záznamy'!$Q$9:$Q$209)) | K20: =IF($G20="","",SUMPRODUCT(--('Záznamy'!$J$9:$J$209=$G20),--('Záznamy'!$A$9:$A$209="ZÁZNAM"),--('Záznamy'!$Q$9:$Q$209=""))+SUMPRODUCT(--('Záznamy'!$J$9:$J$209=$G20),--('Záznamy'!$A$9:$A$209="ZÁZNAM"),--('Záznamy'!$Q$9:$Q$209<>""),--('Záznamy'!$R$9:$R$209="")))
... A209: =IF(AND('Záznamy'!A209="ZÁZNAM",'Záznamy'!M209<>""),IF(SUMPRODUCT(--('Záznamy'!$M$9:M209='Záznamy'!M209),--('Záznamy'!$A$9:A209="ZÁZNAM"))=1,'Záznamy'!M209,""),"") | B209: =IF($A209="","",SUMPRODUCT(--('Záznamy'!$M$9:$M$209=$A209),--('Záznamy'!$A$9:$A$209="ZÁZNAM"),--('Záznamy'!$R$9:$R$209="ha"),'Záznamy'!$Q$9:$Q$209)) | C209: =IF($A209="","",SUMPRODUCT(--('Záznamy'!$M$9:$M$209=$A209),--('Záznamy'!$A$9:$A$209="ZÁZNAM"),--('Záznamy'!$R$9:$R$209="acre"),'Záznamy'!$Q$9:$Q$209)) | D209: =IF($A209="","",SUMPRODUCT(--('Záznamy'!$M$9:$M$209=$A209),--('Záznamy'!$A$9:$A$209="ZÁZNAM"),--('Záznamy'!$R$9:$R$209="m²"),'Záznamy'!$Q$9:$Q$209)) | E209: =IF($A209="","",SUMPRODUCT(--('Záznamy'!$M$9:$M$209=$A209),--('Záznamy'!$A$9:$A$209="ZÁZNAM"),--('Záznamy'!$Q$9:$Q$209=""))+SUMPRODUCT(--('Záznamy'!$M$9:$M$209=$A209),--('Záznamy'!$A$9:$A$209="ZÁZNAM"),--('Záznamy'!$Q$9:$Q$209<>""),--('Záznamy'!$R$9:$R$209=""))) | G209: =IF(AND('Záznamy'!A209="ZÁZNAM",'Záznamy'!J209<>""),IF(SUMPRODUCT(--('Záznamy'!$J$9:J209='Záznamy'!J209),--('Záznamy'!$A$9:A209="ZÁZNAM"))=1,'Záznamy'!J209,""),"") | H209: =IF($G209="","",SUMPRODUCT(--('Záznamy'!$J$9:$J$209=$G209),--('Záznamy'!$A$9:$A$209="ZÁZNAM"),--('Záznamy'!$R$9:$R$209="ha"),'Záznamy'!$Q$9:$Q$209)) | I209: =IF($G209="","",SUMPRODUCT(--('Záznamy'!$J$9:$J$209=$G209),--('Záznamy'!$A$9:$A$209="ZÁZNAM"),--('Záznamy'!$R$9:$R$209="acre"),'Záznamy'!$Q$9:$Q$209)) | J209: =IF($G209="","",SUMPRODUCT(--('Záznamy'!$J$9:$J$209=$G209),--('Záznamy'!$A$9:$A$209="ZÁZNAM"),--('Záznamy'!$R$9:$R$209="m²"),'Záznamy'!$Q$9:$Q$209)) | K209: =IF($G209="","",SUMPRODUCT(--('Záznamy'!$J$9:$J$209=$G209),--('Záznamy'!$A$9:$A$209="ZÁZNAM"),--('Záznamy'!$Q$9:$Q$209=""))+SUMPRODUCT(--('Záznamy'!$J$9:$J$209=$G209),--('Záznamy'!$A$9:$A$209="ZÁZNAM"),--('Záznamy'!$Q$9:$Q$209<>""),--('Záznamy'!$R$9:$R$209="")))

Sheet Pole požadovaná podle
A2: GrangeBook | CZ | Pole požadovaná podle
A3: Pole podle citovaných pravidel v uvedeném rozsahu. Pracovní vzor GrangeBook, není úřední ani schválený orgánem.
A4: Profesionální použití: evropská pole a § 11 národní vyhlášky. Dávka na tři desetinná místa.
A5: Prázdný pracovní formulář. Rozsah a zdroje: přiložený XLSX. Připojte požadované originální doklady.
A7: # | B7: Pole | C7: Použitelnost | D7: Právní základ / zdroj | E7: URL zdroje | F7: Přečteno | G7: Kód podkladu
A8: 1 | B8: Typ záznamu | C8: Pomocné pole; bez tvrzení zákonné povinnosti | D8: Pomocné pole; bez tvrzení zákonné povinnosti
A9: 2 | B9: Označení aplikace / nádrže | C9: Pomocné pole; bez tvrzení zákonné povinnosti | D9: Pomocné pole; bez tvrzení zákonné povinnosti
A10: 3 | B10: Podnik / provozovatel | C10: Povinné v uvedeném rozsahu | D10: Vyhláška 132/2018 Sb., § 11 odst. 1 písm. a)-c), znění 200/2023 Sb.; LPIS / les / parcela / objekt podle použití | E10: https://mze.gov.cz/public/portal/mze/legislativa/vap100736-100 | F10: 2026-10-23 | G10: CZ-FIELDS-01
A11: 4 | B11: Kraj / okres | C11: Pomocné pole; bez tvrzení zákonné povinnosti | D11: Pomocné pole; bez tvrzení zákonné povinnosti
A12: 5 | B12: Datum aplikace | C12: Povinné v uvedeném rozsahu | D12: Nařízení (EU) 2023/564, příloha; profesionální použití podle typu ošetření | E12: https://eur-lex.europa.eu/legal-content/EN/TXT/?qid=1789928212756&uri=CELEX%3A32023R0564 | F12: 2026-10-23 | G12: CZ-EU-03
A13: 5 | B13: Datum aplikace | C13: Povinné v uvedeném rozsahu | D13: Vyhláška 132/2018 Sb., § 11 odst. 1 písm. d); plocha/množství 2 desetinná místa, dávka 3; S/TM, účinnost 1/0 | E13: https://mze.gov.cz/public/portal/mze/legislativa/vap100736-100 | F13: 2026-10-23 | G13: CZ-FIELDS-02
A14: 6 | B14: Čas zahájení | C14: Podmíněné; viz rozsah | D14: Nařízení (EU) 2023/564, příloha; čas/BBCH podle podmínek povolení, EPPO je-li relevantní | E14: https://eur-lex.europa.eu/legal-content/EN/TXT/?qid=1789928212756&uri=CELEX%3A32023R0564 | F14: 2026-10-23 | G14: CZ-EU-03
A15: 7 | B15: Datum ukončení | C15: Pomocné pole; bez tvrzení zákonné povinnosti | D15: Pomocné pole; bez tvrzení zákonné povinnosti
A16: 8 | B16: Čas ukončení | C16: Pomocné pole; bez tvrzení zákonné povinnosti | D16: Pomocné pole; bez tvrzení zákonné povinnosti
A17: 9 | B17: Typ použití | C17: Povinné v uvedeném rozsahu | D17: Nařízení (EU) 2023/564, příloha; profesionální použití podle typu ošetření | E17: https://eur-lex.europa.eu/legal-content/EN/TXT/?qid=1789928212756&uri=CELEX%3A32023R0564 | F17: 2026-10-23 | G17: CZ-EU-03
A18: 10 | B18: Zkrácený kód DPB / lesní jednotka / parcelní číslo | C18: Povinné v uvedeném rozsahu | D18: Nařízení (EU) 2023/564, příloha; profesionální použití podle typu ošetření | E18: https://eur-lex.europa.eu/legal-content/EN/TXT/?qid=1789928212756&uri=CELEX%3A32023R0564 | F18: 2026-10-23 | G18: CZ-EU-03
A19: 10 | B19: Zkrácený kód DPB / lesní jednotka / parcelní číslo | C19: Povinné v uvedeném rozsahu | D19: Vyhláška 132/2018 Sb., § 11 odst. 1 písm. a)-c), znění 200/2023 Sb.; LPIS / les / parcela / objekt podle použití | E19: https://mze.gov.cz/public/portal/mze/legislativa/vap100736-100 | F19: 2026-10-23 | G19: CZ-FIELDS-01
A20: 11 | B20: Čtverec DPB a katastrální území; lesní hospodářský celek a jednotky; poloha a druh objektu podle použití | C20: Povinné v uvedeném rozsahu | D20: Nařízení (EU) 2023/564, příloha; profesionální použití podle typu ošetření | E20: https://eur-lex.europa.eu/legal-content/EN/TXT/?qid=1789928212756&uri=CELEX%3A32023R0564 | F20: 2026-10-23 | G20: CZ-EU-03
A21: 11 | B21: Čtverec DPB a katastrální území; lesní hospodářský celek a jednotky; poloha a druh objektu podle použití | C21: Povinné v uvedeném rozsahu | D21: Vyhláška 132/2018 Sb., § 11 odst. 1 písm. a)-c), znění 200/2023 Sb.; LPIS / les / parcela / objekt podle použití | E21: https://mze.gov.cz/public/portal/mze/legislativa/vap100736-100 | F21: 2026-10-23 | G21: CZ-FIELDS-01
A22: 12 | B22: Plodina / produkt / předmět použití | C22: Povinné v uvedeném rozsahu | D22: Nařízení (EU) 2023/564, příloha; profesionální použití podle typu ošetření | E22: https://eur-lex.europa.eu/legal-content/EN/TXT/?qid=1789928212756&uri=CELEX%3A32023R0564 | F22: 2026-10-23 | G22: CZ-EU-03
A23: 12 | B23: Plodina / produkt / předmět použití | C23: Povinné v uvedeném rozsahu | D23: Vyhláška 132/2018 Sb., § 11 odst. 1 písm. d); plocha/množství 2 desetinná místa, dávka 3; S/TM, účinnost 1/0 | E23: https://mze.gov.cz/public/portal/mze/legislativa/vap100736-100 | F23: 2026-10-23 | G23: CZ-FIELDS-02
A24: 13 | B24: Úplný obchodní název | C24: Povinné v uvedeném rozsahu | D24: Nařízení (EU) 2023/564, příloha; profesionální použití podle typu ošetření | E24: https://eur-lex.europa.eu/legal-content/EN/TXT/?qid=1789928212756&uri=CELEX%3A32023R0564 | F24: 2026-10-23 | G24: CZ-EU-03
A25: 13 | B25: Úplný obchodní název | C25: Povinné v uvedeném rozsahu | D25: Vyhláška 132/2018 Sb., § 11 odst. 1 písm. d); plocha/množství 2 desetinná místa, dávka 3; S/TM, účinnost 1/0 | E25: https://mze.gov.cz/public/portal/mze/legislativa/vap100736-100 | F25: 2026-10-23 | G25: CZ-FIELDS-02
A26: 14 | B26: Číslo povolení | C26: Povinné v uvedeném rozsahu | D26: Nařízení (EU) 2023/564, příloha; profesionální použití podle typu ošetření | E26: https://eur-lex.europa.eu/legal-content/EN/TXT/?qid=1789928212756&uri=CELEX%3A32023R0564 | F26: 2026-10-23 | G26: CZ-EU-03
A27: 15 | B27: Použitá dávka | C27: Povinné v uvedeném rozsahu | D27: Nařízení (EU) 2023/564, příloha; profesionální použití podle typu ošetření | E27: https://eur-lex.europa.eu/legal-content/EN/TXT/?qid=1789928212756&uri=CELEX%3A32023R0564 | F27: 2026-10-23 | G27: CZ-EU-03
A28: 15 | B28: Použitá dávka | C28: Povinné v uvedeném rozsahu | D28: Vyhláška 132/2018 Sb., § 11 odst. 1 písm. d); plocha/množství 2 desetinná místa, dávka 3; S/TM, účinnost 1/0 | E28: https://mze.gov.cz/public/portal/mze/legislativa/vap100736-100 | F28: 2026-10-23 | G28: CZ-FIELDS-02
... A34: 18 | B34: Jednotka plochy / množství | C34: Povinné v uvedeném rozsahu | D34: Vyhláška 132/2018 Sb., § 11 odst. 1 písm. d); plocha/množství 2 desetinná místa, dávka 3; S/TM, účinnost 1/0 | E34: https://mze.gov.cz/public/portal/mze/legislativa/vap100736-100 | F34: 2026-10-23 | G34: CZ-FIELDS-02
A35: 19 | B35: Jméno osoby provádějící aplikaci | C35: Pomocné pole; bez tvrzení zákonné povinnosti | D35: Pomocné pole; bez tvrzení zákonné povinnosti
A36: 20 | B36: Poznámky / další podmínky | C36: Pomocné pole; bez tvrzení zákonné povinnosti | D36: Pomocné pole; bez tvrzení zákonné povinnosti
A37: 21 | B37: Označení plodiny / použití EPPO, je-li relevantní | C37: Podmíněné; viz rozsah | D37: Nařízení (EU) 2023/564, příloha; čas/BBCH podle podmínek povolení, EPPO je-li relevantní | E37: https://eur-lex.europa.eu/legal-content/EN/TXT/?qid=1789928212756&uri=CELEX%3A32023R0564 | F37: 2026-10-23 | G37: CZ-EU-03
A38: 22 | B38: Fáze BBCH, je-li relevantní | C38: Podmíněné; viz rozsah | D38: Nařízení (EU) 2023/564, příloha; čas/BBCH podle podmínek povolení, EPPO je-li relevantní | E38: https://eur-lex.europa.eu/legal-content/EN/TXT/?qid=1789928212756&uri=CELEX%3A32023R0564 | F38: 2026-10-23 | G38: CZ-EU-03
A39: 23 | B39: Šarže osiva / materiálu, je-li relevantní | C39: Podmíněné; viz rozsah | D39: Nařízení (EU) 2023/564, příloha; šarže osiva / materiálu, je-li relevantní | E39: https://eur-lex.europa.eu/legal-content/EN/TXT/?qid=1789928212756&uri=CELEX%3A32023R0564 | F39: 2026-10-23 | G39: CZ-EU-04
A40: 24 | B40: IČO, nebo datum narození, nebylo-li IČO přiděleno | C40: Povinné v uvedeném rozsahu | D40: Vyhláška 132/2018 Sb., § 11 odst. 1 písm. a)-c), znění 200/2023 Sb.; LPIS / les / parcela / objekt podle použití | E40: https://mze.gov.cz/public/portal/mze/legislativa/vap100736-100 | F40: 2026-10-23 | G40: CZ-FIELDS-01
A41: 25 | B41: Adresa podnikání / sídla | C41: Povinné v uvedeném rozsahu | D41: Vyhláška 132/2018 Sb., § 11 odst. 1 písm. a)-c), znění 200/2023 Sb.; LPIS / les / parcela / objekt podle použití | E41: https://mze.gov.cz/public/portal/mze/legislativa/vap100736-100 | F41: 2026-10-23 | G41: CZ-FIELDS-01
A42: 26 | B42: Výměra oseté / osázené plodiny (ha, 2 desetinná místa) | C42: Povinné v uvedeném rozsahu | D42: Vyhláška 132/2018 Sb., § 11 odst. 1 písm. a)-c), znění 200/2023 Sb.; LPIS / les / parcela / objekt podle použití | E42: https://mze.gov.cz/public/portal/mze/legislativa/vap100736-100 | F42: 2026-10-23 | G42: CZ-FIELDS-01
A43: 27 | B43: Datum výsevu | C43: Povinné v uvedeném rozsahu | D43: Vyhláška 132/2018 Sb., § 11 odst. 1 písm. a)-c), znění 200/2023 Sb.; LPIS / les / parcela / objekt podle použití | E43: https://mze.gov.cz/public/portal/mze/legislativa/vap100736-100 | F43: 2026-10-23 | G43: CZ-FIELDS-01
A44: 28 | B44: Datum výsadby | C44: Povinné v uvedeném rozsahu | D44: Vyhláška 132/2018 Sb., § 11 odst. 1 písm. a)-c), znění 200/2023 Sb.; LPIS / les / parcela / objekt podle použití | E44: https://mze.gov.cz/public/portal/mze/legislativa/vap100736-100 | F44: 2026-10-23 | G44: CZ-FIELDS-01
A45: 29 | B45: Datum ukončení pěstování | C45: Povinné v uvedeném rozsahu | D45: Vyhláška 132/2018 Sb., § 11 odst. 1 písm. a)-c), znění 200/2023 Sb.; LPIS / les / parcela / objekt podle použití | E45: https://mze.gov.cz/public/portal/mze/legislativa/vap100736-100 | F45: 2026-10-23 | G45: CZ-FIELDS-01
A46: 30 | B46: Cílový organismus / účel | C46: Povinné v uvedeném rozsahu | D46: Vyhláška 132/2018 Sb., § 11 odst. 1 písm. d); plocha/množství 2 desetinná místa, dávka 3; S/TM, účinnost 1/0 | E46: https://mze.gov.cz/public/portal/mze/legislativa/vap100736-100 | F46: 2026-10-23 | G46: CZ-FIELDS-02
A47: 31 | B47: Použití S / tank-mix TM | C47: Povinné v uvedeném rozsahu | D47: Vyhláška 132/2018 Sb., § 11 odst. 1 písm. d); plocha/množství 2 desetinná místa, dávka 3; S/TM, účinnost 1/0 | E47: https://mze.gov.cz/public/portal/mze/legislativa/vap100736-100 | F47: 2026-10-23 | G47: CZ-FIELDS-02
A48: 32 | B48: Účinnost: 1 účinné / 0 neúčinné | C48: Povinné v uvedeném rozsahu | D48: Vyhláška 132/2018 Sb., § 11 odst. 1 písm. d); plocha/množství 2 desetinná místa, dávka 3; S/TM, účinnost 1/0 | E48: https://mze.gov.cz/public/portal/mze/legislativa/vap100736-100 | F48: 2026-10-23 | G48: CZ-FIELDS-02

Sheet Seznamy
A2: GrangeBook | CZ | Seznamy
A3: Bílé buňky a seznamy lze upravovat; vzorce jsou chráněny bez hesla. Dávky nejsou doporučením použití.
A5: Typ záznamu | B5: Typ použití | C5: Jednotka plochy / množství | D5: Jednotka dávky | E5: Jednotka plochy / množství | F5: m/s, km/h | G5: N, NE, E, SE, S, SW, W, NW | H5: Úplný obchodní název | I5: Zkrácený kód DPB / lesní jednotka / parcelní číslo | L5: Použití S / tank-mix TM | M5: Účinnost: 1 účinné / 0 neúčinné
A6: ZÁZNAM | B6: Plošné ošetření | C6: ha | D6: L/ha | E6: L | F6: m/s | G6: N | L6: S | M6: 1
A7: PŘÍKLAD | B7: Ošetření v uzavřeném prostoru | C7: acre | D7: kg/ha | E7: mL | F7: km/h | G7: NE | L7: TM | M7: 0
B8: Ošetření osiva / rozmnožovacího materiálu | C8: m² | D8: g/ha | E8: kg | F8: mph | G8: E
B9: Jiné: upřesněte v poznámkách | C9: m³ | D9: mL/ha | E9: g | F9: Jiné: upřesněte v poznámkách | G9: SE
C10: kg | D10: L/m² | E10: Jiné: upřesněte v poznámkách | G10: S
C11: t | D11: kg/m² | G11: SW
C12: kus | D12: L/m³ | G12: W
C13: Jiné: upřesněte v poznámkách | D13: kg/m³ | G13: NW
D14: L/kg | G14: Jiné: upřesněte v poznámkách
D15: kg/kg
D16: g/kg
D17: L/t
D18: kg/t
D19: g/L
D20: mL/L
D21: L/1000
D22: kg/1000
D23: mL/100 L
D24: g/100 L
D25: mL/daa
D26: g/daa
D27: Jiné: upřesněte v poznámkách
