Workbook
Name FI_fi_status: 'Luettelot FI'!$A$6:$A$7
Name FI_fi_use_type: 'Luettelot FI'!$B$6:$B$9
Name FI_fi_extent_unit: 'Luettelot FI'!$C$6:$C$13
Name FI_fi_dose_unit: 'Luettelot FI'!$D$6:$D$27
Name FI_fi_quantity_unit: 'Luettelot FI'!$E$6:$E$10
Name FI_fi_wind_unit: 'Luettelot FI'!$F$6:$F$9
Name FI_fi_wind_direction: 'Luettelot FI'!$G$6:$G$14
Name FI_fi_product: 'Luettelot FI'!$H$6:$H$105
Name FI_fi_field: 'Luettelot FI'!$I$6:$I$105
Name FI_sv_status: 'Listor SV'!$A$6:$A$7
Name FI_sv_use_type: 'Listor SV'!$B$6:$B$9
Name FI_sv_extent_unit: 'Listor SV'!$C$6:$C$13
Name FI_sv_dose_unit: 'Listor SV'!$D$6:$D$27
Name FI_sv_quantity_unit: 'Listor SV'!$E$6:$E$10
Name FI_sv_wind_unit: 'Listor SV'!$F$6:$F$9
Name FI_sv_wind_direction: 'Listor SV'!$G$6:$G$14
Name FI_sv_product: 'Listor SV'!$H$6:$H$105
Name FI_sv_field: 'Listor SV'!$I$6:$I$105

Sheet Kirjaukset FI
A2: Leafwrit | FI | Kasvinsuojeluaineiden kirjanpito
A3: Yksi rivi valmistetta ja käsittelyä kohti. Kirjaa tarkka paikka ja yksiköt. ESIMERKKI jätetään pois. Yli 200 kirjauksella laajenna kaikkia kaavoja.
A4: Valkoiset solut ja luettelot ovat muokattavia; kaavat on suojattu ilman salasanaa. Annokset eivät ole käyttösuosituksia.
A5: Ammattikäyttö: EU:n tiedot ja Tukesin ohjeet. Kasviryhmäkoodi riittää ohjeen mukaan; kellonaika ja BBCH tarvittaessa.
A6: Kentät viitattujen sääntöjen mukaan ilmoitetulla soveltamisalalla. Leafwrit-työpohja, ei virallinen eikä viranomaisen hyväksymä.
A7: Kielilehdet ovat vaihtoehtoja. Käytä yhtä kieltä kutakin aineistoa kohti.
A8: [01] Rivin tyyppi | B8: [02] Käsittelyn / säiliön tunnus | C8: [03] Tila / haltija | D8: [04] Alue / kunta | E8: [05] Käsittelypäivä | F8: [06] Aloitusaika | G8: [07] Päättymispäivä | H8: [08] Päättymisaika | I8: [09] Käyttötapa | J8: [10] Lohkon tunnus | K8: [11] Tarkka sijainti / laitos | L8: [12] Viljelykasvi / tuote / maankäyttö | M8: [13] Valmisteen koko nimi | N8: [14] Rekisterinumero | O8: [15] Käyttömäärä | P8: [16] Käyttömäärän yksikkö | Q8: [17] Käsitelty pinta-ala / määrä | R8: [18] Pinta-alan / määrän yksikkö | S8: [19] Käsittelyn tekijän nimi | T8: [20] Huomautukset / lisäehdot | U8: [21] EPPO-koodi; ohjeen kasviryhmäkoodi riittää | V8: [22] BBCH-vaihe, jos tarpeen | W8: [23] Siemen- / materiaalierä, jos tarpeen | X8: [24] Havaitut tuholaiset / taudit ja havaintopäivä | Y8: [25] Torjunnan peruste / ennaltaehkäisevät toimet
A9: ESIMERKKI | B9: ESIMERKKI-001 | C9: ESIMERKKI | E9: 46023 | F9: 0.375 | I9: Pintakäsittely | J9: ESIMERKKI A | K9: ESIMERKKI | L9: ESIMERKKI | M9: ESIMERKKI A | Q9: 1.25 | R9: ha | T9: ESIMERKKI
A10: KIRJAUS
A11: KIRJAUS
A12: KIRJAUS
A13: KIRJAUS
A14: KIRJAUS
A15: KIRJAUS
A16: KIRJAUS
A17: KIRJAUS
A18: KIRJAUS
A19: KIRJAUS
A20: KIRJAUS
A21: KIRJAUS
... A209: KIRJAUS

Sheet Yhteenveto FI
A2: Leafwrit | FI | Yhteenveto
A3: Summat valmisteen / lohkon ja erillisten yksiköiden mukaan, eivät yksilöllinen maa-ala. Tyhjät avaimet ja ESIMERKKI jätetään pois.
A4: Yksi rivi valmistetta ja käsittelyä kohti. Kirjaa tarkka paikka ja yksiköt. ESIMERKKI jätetään pois. Yli 200 kirjauksella laajenna kaikkia kaavoja.
A5: Kielilehdet ovat vaihtoehtoja. Käytä yhtä kieltä kutakin aineistoa kohti.
A6: Puutteelliset kirjaukset = Käsitelty pinta-ala / määrä / Pinta-alan / määrän yksikkö
A7: Valmisteittain | G7: Lohkoittain
A8: Valmisteen koko nimi | B8: ha | C8: acre | D8: m² | E8: Puutteelliset kirjaukset | G8: Lohkon tunnus | H8: ha | I8: acre | J8: m² | K8: Puutteelliset kirjaukset
A9: =IF(AND('Kirjaukset FI'!A9="KIRJAUS",'Kirjaukset FI'!M9<>""),IF(SUMPRODUCT(--('Kirjaukset FI'!$M$9:M9='Kirjaukset FI'!M9),--('Kirjaukset FI'!$A$9:A9="KIRJAUS"))=1,'Kirjaukset FI'!M9,""),"") | B9: =IF($A9="","",SUMPRODUCT(--('Kirjaukset FI'!$M$9:$M$209=$A9),--('Kirjaukset FI'!$A$9:$A$209="KIRJAUS"),--('Kirjaukset FI'!$R$9:$R$209="ha"),'Kirjaukset FI'!$Q$9:$Q$209)) | C9: =IF($A9="","",SUMPRODUCT(--('Kirjaukset FI'!$M$9:$M$209=$A9),--('Kirjaukset FI'!$A$9:$A$209="KIRJAUS"),--('Kirjaukset FI'!$R$9:$R$209="acre"),'Kirjaukset FI'!$Q$9:$Q$209)) | D9: =IF($A9="","",SUMPRODUCT(--('Kirjaukset FI'!$M$9:$M$209=$A9),--('Kirjaukset FI'!$A$9:$A$209="KIRJAUS"),--('Kirjaukset FI'!$R$9:$R$209="m²"),'Kirjaukset FI'!$Q$9:$Q$209)) | E9: =IF($A9="","",SUMPRODUCT(--('Kirjaukset FI'!$M$9:$M$209=$A9),--('Kirjaukset FI'!$A$9:$A$209="KIRJAUS"),--('Kirjaukset FI'!$Q$9:$Q$209=""))+SUMPRODUCT(--('Kirjaukset FI'!$M$9:$M$209=$A9),--('Kirjaukset FI'!$A$9:$A$209="KIRJAUS"),--('Kirjaukset FI'!$Q$9:$Q$209<>""),--('Kirjaukset FI'!$R$9:$R$209=""))) | G9: =IF(AND('Kirjaukset FI'!A9="KIRJAUS",'Kirjaukset FI'!J9<>""),IF(SUMPRODUCT(--('Kirjaukset FI'!$J$9:J9='Kirjaukset FI'!J9),--('Kirjaukset FI'!$A$9:A9="KIRJAUS"))=1,'Kirjaukset FI'!J9,""),"") | H9: =IF($G9="","",SUMPRODUCT(--('Kirjaukset FI'!$J$9:$J$209=$G9),--('Kirjaukset FI'!$A$9:$A$209="KIRJAUS"),--('Kirjaukset FI'!$R$9:$R$209="ha"),'Kirjaukset FI'!$Q$9:$Q$209)) | I9: =IF($G9="","",SUMPRODUCT(--('Kirjaukset FI'!$J$9:$J$209=$G9),--('Kirjaukset FI'!$A$9:$A$209="KIRJAUS"),--('Kirjaukset FI'!$R$9:$R$209="acre"),'Kirjaukset FI'!$Q$9:$Q$209)) | J9: =IF($G9="","",SUMPRODUCT(--('Kirjaukset FI'!$J$9:$J$209=$G9),--('Kirjaukset FI'!$A$9:$A$209="KIRJAUS"),--('Kirjaukset FI'!$R$9:$R$209="m²"),'Kirjaukset FI'!$Q$9:$Q$209)) | K9: =IF($G9="","",SUMPRODUCT(--('Kirjaukset FI'!$J$9:$J$209=$G9),--('Kirjaukset FI'!$A$9:$A$209="KIRJAUS"),--('Kirjaukset FI'!$Q$9:$Q$209=""))+SUMPRODUCT(--('Kirjaukset FI'!$J$9:$J$209=$G9),--('Kirjaukset FI'!$A$9:$A$209="KIRJAUS"),--('Kirjaukset FI'!$Q$9:$Q$209<>""),--('Kirjaukset FI'!$R$9:$R$209="")))
A10: =IF(AND('Kirjaukset FI'!A10="KIRJAUS",'Kirjaukset FI'!M10<>""),IF(SUMPRODUCT(--('Kirjaukset FI'!$M$9:M10='Kirjaukset FI'!M10),--('Kirjaukset FI'!$A$9:A10="KIRJAUS"))=1,'Kirjaukset FI'!M10,""),"") | B10: =IF($A10="","",SUMPRODUCT(--('Kirjaukset FI'!$M$9:$M$209=$A10),--('Kirjaukset FI'!$A$9:$A$209="KIRJAUS"),--('Kirjaukset FI'!$R$9:$R$209="ha"),'Kirjaukset FI'!$Q$9:$Q$209)) | C10: =IF($A10="","",SUMPRODUCT(--('Kirjaukset FI'!$M$9:$M$209=$A10),--('Kirjaukset FI'!$A$9:$A$209="KIRJAUS"),--('Kirjaukset FI'!$R$9:$R$209="acre"),'Kirjaukset FI'!$Q$9:$Q$209)) | D10: =IF($A10="","",SUMPRODUCT(--('Kirjaukset FI'!$M$9:$M$209=$A10),--('Kirjaukset FI'!$A$9:$A$209="KIRJAUS"),--('Kirjaukset FI'!$R$9:$R$209="m²"),'Kirjaukset FI'!$Q$9:$Q$209)) | E10: =IF($A10="","",SUMPRODUCT(--('Kirjaukset FI'!$M$9:$M$209=$A10),--('Kirjaukset FI'!$A$9:$A$209="KIRJAUS"),--('Kirjaukset FI'!$Q$9:$Q$209=""))+SUMPRODUCT(--('Kirjaukset FI'!$M$9:$M$209=$A10),--('Kirjaukset FI'!$A$9:$A$209="KIRJAUS"),--('Kirjaukset FI'!$Q$9:$Q$209<>""),--('Kirjaukset FI'!$R$9:$R$209=""))) | G10: =IF(AND('Kirjaukset FI'!A10="KIRJAUS",'Kirjaukset FI'!J10<>""),IF(SUMPRODUCT(--('Kirjaukset FI'!$J$9:J10='Kirjaukset FI'!J10),--('Kirjaukset FI'!$A$9:A10="KIRJAUS"))=1,'Kirjaukset FI'!J10,""),"") | H10: =IF($G10="","",SUMPRODUCT(--('Kirjaukset FI'!$J$9:$J$209=$G10),--('Kirjaukset FI'!$A$9:$A$209="KIRJAUS"),--('Kirjaukset FI'!$R$9:$R$209="ha"),'Kirjaukset FI'!$Q$9:$Q$209)) | I10: =IF($G10="","",SUMPRODUCT(--('Kirjaukset FI'!$J$9:$J$209=$G10),--('Kirjaukset FI'!$A$9:$A$209="KIRJAUS"),--('Kirjaukset FI'!$R$9:$R$209="acre"),'Kirjaukset FI'!$Q$9:$Q$209)) | J10: =IF($G10="","",SUMPRODUCT(--('Kirjaukset FI'!$J$9:$J$209=$G10),--('Kirjaukset FI'!$A$9:$A$209="KIRJAUS"),--('Kirjaukset FI'!$R$9:$R$209="m²"),'Kirjaukset FI'!$Q$9:$Q$209)) | K10: =IF($G10="","",SUMPRODUCT(--('Kirjaukset FI'!$J$9:$J$209=$G10),--('Kirjaukset FI'!$A$9:$A$209="KIRJAUS"),--('Kirjaukset FI'!$Q$9:$Q$209=""))+SUMPRODUCT(--('Kirjaukset FI'!$J$9:$J$209=$G10),--('Kirjaukset FI'!$A$9:$A$209="KIRJAUS"),--('Kirjaukset FI'!$Q$9:$Q$209<>""),--('Kirjaukset FI'!$R$9:$R$209="")))
A11: =IF(AND('Kirjaukset FI'!A11="KIRJAUS",'Kirjaukset FI'!M11<>""),IF(SUMPRODUCT(--('Kirjaukset FI'!$M$9:M11='Kirjaukset FI'!M11),--('Kirjaukset FI'!$A$9:A11="KIRJAUS"))=1,'Kirjaukset FI'!M11,""),"") | B11: =IF($A11="","",SUMPRODUCT(--('Kirjaukset FI'!$M$9:$M$209=$A11),--('Kirjaukset FI'!$A$9:$A$209="KIRJAUS"),--('Kirjaukset FI'!$R$9:$R$209="ha"),'Kirjaukset FI'!$Q$9:$Q$209)) | C11: =IF($A11="","",SUMPRODUCT(--('Kirjaukset FI'!$M$9:$M$209=$A11),--('Kirjaukset FI'!$A$9:$A$209="KIRJAUS"),--('Kirjaukset FI'!$R$9:$R$209="acre"),'Kirjaukset FI'!$Q$9:$Q$209)) | D11: =IF($A11="","",SUMPRODUCT(--('Kirjaukset FI'!$M$9:$M$209=$A11),--('Kirjaukset FI'!$A$9:$A$209="KIRJAUS"),--('Kirjaukset FI'!$R$9:$R$209="m²"),'Kirjaukset FI'!$Q$9:$Q$209)) | E11: =IF($A11="","",SUMPRODUCT(--('Kirjaukset FI'!$M$9:$M$209=$A11),--('Kirjaukset FI'!$A$9:$A$209="KIRJAUS"),--('Kirjaukset FI'!$Q$9:$Q$209=""))+SUMPRODUCT(--('Kirjaukset FI'!$M$9:$M$209=$A11),--('Kirjaukset FI'!$A$9:$A$209="KIRJAUS"),--('Kirjaukset FI'!$Q$9:$Q$209<>""),--('Kirjaukset FI'!$R$9:$R$209=""))) | G11: =IF(AND('Kirjaukset FI'!A11="KIRJAUS",'Kirjaukset FI'!J11<>""),IF(SUMPRODUCT(--('Kirjaukset FI'!$J$9:J11='Kirjaukset FI'!J11),--('Kirjaukset FI'!$A$9:A11="KIRJAUS"))=1,'Kirjaukset FI'!J11,""),"") | H11: =IF($G11="","",SUMPRODUCT(--('Kirjaukset FI'!$J$9:$J$209=$G11),--('Kirjaukset FI'!$A$9:$A$209="KIRJAUS"),--('Kirjaukset FI'!$R$9:$R$209="ha"),'Kirjaukset FI'!$Q$9:$Q$209)) | I11: =IF($G11="","",SUMPRODUCT(--('Kirjaukset FI'!$J$9:$J$209=$G11),--('Kirjaukset FI'!$A$9:$A$209="KIRJAUS"),--('Kirjaukset FI'!$R$9:$R$209="acre"),'Kirjaukset FI'!$Q$9:$Q$209)) | J11: =IF($G11="","",SUMPRODUCT(--('Kirjaukset FI'!$J$9:$J$209=$G11),--('Kirjaukset FI'!$A$9:$A$209="KIRJAUS"),--('Kirjaukset FI'!$R$9:$R$209="m²"),'Kirjaukset FI'!$Q$9:$Q$209)) | K11: =IF($G11="","",SUMPRODUCT(--('Kirjaukset FI'!$J$9:$J$209=$G11),--('Kirjaukset FI'!$A$9:$A$209="KIRJAUS"),--('Kirjaukset FI'!$Q$9:$Q$209=""))+SUMPRODUCT(--('Kirjaukset FI'!$J$9:$J$209=$G11),--('Kirjaukset FI'!$A$9:$A$209="KIRJAUS"),--('Kirjaukset FI'!$Q$9:$Q$209<>""),--('Kirjaukset FI'!$R$9:$R$209="")))
A12: =IF(AND('Kirjaukset FI'!A12="KIRJAUS",'Kirjaukset FI'!M12<>""),IF(SUMPRODUCT(--('Kirjaukset FI'!$M$9:M12='Kirjaukset FI'!M12),--('Kirjaukset FI'!$A$9:A12="KIRJAUS"))=1,'Kirjaukset FI'!M12,""),"") | B12: =IF($A12="","",SUMPRODUCT(--('Kirjaukset FI'!$M$9:$M$209=$A12),--('Kirjaukset FI'!$A$9:$A$209="KIRJAUS"),--('Kirjaukset FI'!$R$9:$R$209="ha"),'Kirjaukset FI'!$Q$9:$Q$209)) | C12: =IF($A12="","",SUMPRODUCT(--('Kirjaukset FI'!$M$9:$M$209=$A12),--('Kirjaukset FI'!$A$9:$A$209="KIRJAUS"),--('Kirjaukset FI'!$R$9:$R$209="acre"),'Kirjaukset FI'!$Q$9:$Q$209)) | D12: =IF($A12="","",SUMPRODUCT(--('Kirjaukset FI'!$M$9:$M$209=$A12),--('Kirjaukset FI'!$A$9:$A$209="KIRJAUS"),--('Kirjaukset FI'!$R$9:$R$209="m²"),'Kirjaukset FI'!$Q$9:$Q$209)) | E12: =IF($A12="","",SUMPRODUCT(--('Kirjaukset FI'!$M$9:$M$209=$A12),--('Kirjaukset FI'!$A$9:$A$209="KIRJAUS"),--('Kirjaukset FI'!$Q$9:$Q$209=""))+SUMPRODUCT(--('Kirjaukset FI'!$M$9:$M$209=$A12),--('Kirjaukset FI'!$A$9:$A$209="KIRJAUS"),--('Kirjaukset FI'!$Q$9:$Q$209<>""),--('Kirjaukset FI'!$R$9:$R$209=""))) | G12: =IF(AND('Kirjaukset FI'!A12="KIRJAUS",'Kirjaukset FI'!J12<>""),IF(SUMPRODUCT(--('Kirjaukset FI'!$J$9:J12='Kirjaukset FI'!J12),--('Kirjaukset FI'!$A$9:A12="KIRJAUS"))=1,'Kirjaukset FI'!J12,""),"") | H12: =IF($G12="","",SUMPRODUCT(--('Kirjaukset FI'!$J$9:$J$209=$G12),--('Kirjaukset FI'!$A$9:$A$209="KIRJAUS"),--('Kirjaukset FI'!$R$9:$R$209="ha"),'Kirjaukset FI'!$Q$9:$Q$209)) | I12: =IF($G12="","",SUMPRODUCT(--('Kirjaukset FI'!$J$9:$J$209=$G12),--('Kirjaukset FI'!$A$9:$A$209="KIRJAUS"),--('Kirjaukset FI'!$R$9:$R$209="acre"),'Kirjaukset FI'!$Q$9:$Q$209)) | J12: =IF($G12="","",SUMPRODUCT(--('Kirjaukset FI'!$J$9:$J$209=$G12),--('Kirjaukset FI'!$A$9:$A$209="KIRJAUS"),--('Kirjaukset FI'!$R$9:$R$209="m²"),'Kirjaukset FI'!$Q$9:$Q$209)) | K12: =IF($G12="","",SUMPRODUCT(--('Kirjaukset FI'!$J$9:$J$209=$G12),--('Kirjaukset FI'!$A$9:$A$209="KIRJAUS"),--('Kirjaukset FI'!$Q$9:$Q$209=""))+SUMPRODUCT(--('Kirjaukset FI'!$J$9:$J$209=$G12),--('Kirjaukset FI'!$A$9:$A$209="KIRJAUS"),--('Kirjaukset FI'!$Q$9:$Q$209<>""),--('Kirjaukset FI'!$R$9:$R$209="")))
A13: =IF(AND('Kirjaukset FI'!A13="KIRJAUS",'Kirjaukset FI'!M13<>""),IF(SUMPRODUCT(--('Kirjaukset FI'!$M$9:M13='Kirjaukset FI'!M13),--('Kirjaukset FI'!$A$9:A13="KIRJAUS"))=1,'Kirjaukset FI'!M13,""),"") | B13: =IF($A13="","",SUMPRODUCT(--('Kirjaukset FI'!$M$9:$M$209=$A13),--('Kirjaukset FI'!$A$9:$A$209="KIRJAUS"),--('Kirjaukset FI'!$R$9:$R$209="ha"),'Kirjaukset FI'!$Q$9:$Q$209)) | C13: =IF($A13="","",SUMPRODUCT(--('Kirjaukset FI'!$M$9:$M$209=$A13),--('Kirjaukset FI'!$A$9:$A$209="KIRJAUS"),--('Kirjaukset FI'!$R$9:$R$209="acre"),'Kirjaukset FI'!$Q$9:$Q$209)) | D13: =IF($A13="","",SUMPRODUCT(--('Kirjaukset FI'!$M$9:$M$209=$A13),--('Kirjaukset FI'!$A$9:$A$209="KIRJAUS"),--('Kirjaukset FI'!$R$9:$R$209="m²"),'Kirjaukset FI'!$Q$9:$Q$209)) | E13: =IF($A13="","",SUMPRODUCT(--('Kirjaukset FI'!$M$9:$M$209=$A13),--('Kirjaukset FI'!$A$9:$A$209="KIRJAUS"),--('Kirjaukset FI'!$Q$9:$Q$209=""))+SUMPRODUCT(--('Kirjaukset FI'!$M$9:$M$209=$A13),--('Kirjaukset FI'!$A$9:$A$209="KIRJAUS"),--('Kirjaukset FI'!$Q$9:$Q$209<>""),--('Kirjaukset FI'!$R$9:$R$209=""))) | G13: =IF(AND('Kirjaukset FI'!A13="KIRJAUS",'Kirjaukset FI'!J13<>""),IF(SUMPRODUCT(--('Kirjaukset FI'!$J$9:J13='Kirjaukset FI'!J13),--('Kirjaukset FI'!$A$9:A13="KIRJAUS"))=1,'Kirjaukset FI'!J13,""),"") | H13: =IF($G13="","",SUMPRODUCT(--('Kirjaukset FI'!$J$9:$J$209=$G13),--('Kirjaukset FI'!$A$9:$A$209="KIRJAUS"),--('Kirjaukset FI'!$R$9:$R$209="ha"),'Kirjaukset FI'!$Q$9:$Q$209)) | I13: =IF($G13="","",SUMPRODUCT(--('Kirjaukset FI'!$J$9:$J$209=$G13),--('Kirjaukset FI'!$A$9:$A$209="KIRJAUS"),--('Kirjaukset FI'!$R$9:$R$209="acre"),'Kirjaukset FI'!$Q$9:$Q$209)) | J13: =IF($G13="","",SUMPRODUCT(--('Kirjaukset FI'!$J$9:$J$209=$G13),--('Kirjaukset FI'!$A$9:$A$209="KIRJAUS"),--('Kirjaukset FI'!$R$9:$R$209="m²"),'Kirjaukset FI'!$Q$9:$Q$209)) | K13: =IF($G13="","",SUMPRODUCT(--('Kirjaukset FI'!$J$9:$J$209=$G13),--('Kirjaukset FI'!$A$9:$A$209="KIRJAUS"),--('Kirjaukset FI'!$Q$9:$Q$209=""))+SUMPRODUCT(--('Kirjaukset FI'!$J$9:$J$209=$G13),--('Kirjaukset FI'!$A$9:$A$209="KIRJAUS"),--('Kirjaukset FI'!$Q$9:$Q$209<>""),--('Kirjaukset FI'!$R$9:$R$209="")))
A14: =IF(AND('Kirjaukset FI'!A14="KIRJAUS",'Kirjaukset FI'!M14<>""),IF(SUMPRODUCT(--('Kirjaukset FI'!$M$9:M14='Kirjaukset FI'!M14),--('Kirjaukset FI'!$A$9:A14="KIRJAUS"))=1,'Kirjaukset FI'!M14,""),"") | B14: =IF($A14="","",SUMPRODUCT(--('Kirjaukset FI'!$M$9:$M$209=$A14),--('Kirjaukset FI'!$A$9:$A$209="KIRJAUS"),--('Kirjaukset FI'!$R$9:$R$209="ha"),'Kirjaukset FI'!$Q$9:$Q$209)) | C14: =IF($A14="","",SUMPRODUCT(--('Kirjaukset FI'!$M$9:$M$209=$A14),--('Kirjaukset FI'!$A$9:$A$209="KIRJAUS"),--('Kirjaukset FI'!$R$9:$R$209="acre"),'Kirjaukset FI'!$Q$9:$Q$209)) | D14: =IF($A14="","",SUMPRODUCT(--('Kirjaukset FI'!$M$9:$M$209=$A14),--('Kirjaukset FI'!$A$9:$A$209="KIRJAUS"),--('Kirjaukset FI'!$R$9:$R$209="m²"),'Kirjaukset FI'!$Q$9:$Q$209)) | E14: =IF($A14="","",SUMPRODUCT(--('Kirjaukset FI'!$M$9:$M$209=$A14),--('Kirjaukset FI'!$A$9:$A$209="KIRJAUS"),--('Kirjaukset FI'!$Q$9:$Q$209=""))+SUMPRODUCT(--('Kirjaukset FI'!$M$9:$M$209=$A14),--('Kirjaukset FI'!$A$9:$A$209="KIRJAUS"),--('Kirjaukset FI'!$Q$9:$Q$209<>""),--('Kirjaukset FI'!$R$9:$R$209=""))) | G14: =IF(AND('Kirjaukset FI'!A14="KIRJAUS",'Kirjaukset FI'!J14<>""),IF(SUMPRODUCT(--('Kirjaukset FI'!$J$9:J14='Kirjaukset FI'!J14),--('Kirjaukset FI'!$A$9:A14="KIRJAUS"))=1,'Kirjaukset FI'!J14,""),"") | H14: =IF($G14="","",SUMPRODUCT(--('Kirjaukset FI'!$J$9:$J$209=$G14),--('Kirjaukset FI'!$A$9:$A$209="KIRJAUS"),--('Kirjaukset FI'!$R$9:$R$209="ha"),'Kirjaukset FI'!$Q$9:$Q$209)) | I14: =IF($G14="","",SUMPRODUCT(--('Kirjaukset FI'!$J$9:$J$209=$G14),--('Kirjaukset FI'!$A$9:$A$209="KIRJAUS"),--('Kirjaukset FI'!$R$9:$R$209="acre"),'Kirjaukset FI'!$Q$9:$Q$209)) | J14: =IF($G14="","",SUMPRODUCT(--('Kirjaukset FI'!$J$9:$J$209=$G14),--('Kirjaukset FI'!$A$9:$A$209="KIRJAUS"),--('Kirjaukset FI'!$R$9:$R$209="m²"),'Kirjaukset FI'!$Q$9:$Q$209)) | K14: =IF($G14="","",SUMPRODUCT(--('Kirjaukset FI'!$J$9:$J$209=$G14),--('Kirjaukset FI'!$A$9:$A$209="KIRJAUS"),--('Kirjaukset FI'!$Q$9:$Q$209=""))+SUMPRODUCT(--('Kirjaukset FI'!$J$9:$J$209=$G14),--('Kirjaukset FI'!$A$9:$A$209="KIRJAUS"),--('Kirjaukset FI'!$Q$9:$Q$209<>""),--('Kirjaukset FI'!$R$9:$R$209="")))
A15: =IF(AND('Kirjaukset FI'!A15="KIRJAUS",'Kirjaukset FI'!M15<>""),IF(SUMPRODUCT(--('Kirjaukset FI'!$M$9:M15='Kirjaukset FI'!M15),--('Kirjaukset FI'!$A$9:A15="KIRJAUS"))=1,'Kirjaukset FI'!M15,""),"") | B15: =IF($A15="","",SUMPRODUCT(--('Kirjaukset FI'!$M$9:$M$209=$A15),--('Kirjaukset FI'!$A$9:$A$209="KIRJAUS"),--('Kirjaukset FI'!$R$9:$R$209="ha"),'Kirjaukset FI'!$Q$9:$Q$209)) | C15: =IF($A15="","",SUMPRODUCT(--('Kirjaukset FI'!$M$9:$M$209=$A15),--('Kirjaukset FI'!$A$9:$A$209="KIRJAUS"),--('Kirjaukset FI'!$R$9:$R$209="acre"),'Kirjaukset FI'!$Q$9:$Q$209)) | D15: =IF($A15="","",SUMPRODUCT(--('Kirjaukset FI'!$M$9:$M$209=$A15),--('Kirjaukset FI'!$A$9:$A$209="KIRJAUS"),--('Kirjaukset FI'!$R$9:$R$209="m²"),'Kirjaukset FI'!$Q$9:$Q$209)) | E15: =IF($A15="","",SUMPRODUCT(--('Kirjaukset FI'!$M$9:$M$209=$A15),--('Kirjaukset FI'!$A$9:$A$209="KIRJAUS"),--('Kirjaukset FI'!$Q$9:$Q$209=""))+SUMPRODUCT(--('Kirjaukset FI'!$M$9:$M$209=$A15),--('Kirjaukset FI'!$A$9:$A$209="KIRJAUS"),--('Kirjaukset FI'!$Q$9:$Q$209<>""),--('Kirjaukset FI'!$R$9:$R$209=""))) | G15: =IF(AND('Kirjaukset FI'!A15="KIRJAUS",'Kirjaukset FI'!J15<>""),IF(SUMPRODUCT(--('Kirjaukset FI'!$J$9:J15='Kirjaukset FI'!J15),--('Kirjaukset FI'!$A$9:A15="KIRJAUS"))=1,'Kirjaukset FI'!J15,""),"") | H15: =IF($G15="","",SUMPRODUCT(--('Kirjaukset FI'!$J$9:$J$209=$G15),--('Kirjaukset FI'!$A$9:$A$209="KIRJAUS"),--('Kirjaukset FI'!$R$9:$R$209="ha"),'Kirjaukset FI'!$Q$9:$Q$209)) | I15: =IF($G15="","",SUMPRODUCT(--('Kirjaukset FI'!$J$9:$J$209=$G15),--('Kirjaukset FI'!$A$9:$A$209="KIRJAUS"),--('Kirjaukset FI'!$R$9:$R$209="acre"),'Kirjaukset FI'!$Q$9:$Q$209)) | J15: =IF($G15="","",SUMPRODUCT(--('Kirjaukset FI'!$J$9:$J$209=$G15),--('Kirjaukset FI'!$A$9:$A$209="KIRJAUS"),--('Kirjaukset FI'!$R$9:$R$209="m²"),'Kirjaukset FI'!$Q$9:$Q$209)) | K15: =IF($G15="","",SUMPRODUCT(--('Kirjaukset FI'!$J$9:$J$209=$G15),--('Kirjaukset FI'!$A$9:$A$209="KIRJAUS"),--('Kirjaukset FI'!$Q$9:$Q$209=""))+SUMPRODUCT(--('Kirjaukset FI'!$J$9:$J$209=$G15),--('Kirjaukset FI'!$A$9:$A$209="KIRJAUS"),--('Kirjaukset FI'!$Q$9:$Q$209<>""),--('Kirjaukset FI'!$R$9:$R$209="")))
A16: =IF(AND('Kirjaukset FI'!A16="KIRJAUS",'Kirjaukset FI'!M16<>""),IF(SUMPRODUCT(--('Kirjaukset FI'!$M$9:M16='Kirjaukset FI'!M16),--('Kirjaukset FI'!$A$9:A16="KIRJAUS"))=1,'Kirjaukset FI'!M16,""),"") | B16: =IF($A16="","",SUMPRODUCT(--('Kirjaukset FI'!$M$9:$M$209=$A16),--('Kirjaukset FI'!$A$9:$A$209="KIRJAUS"),--('Kirjaukset FI'!$R$9:$R$209="ha"),'Kirjaukset FI'!$Q$9:$Q$209)) | C16: =IF($A16="","",SUMPRODUCT(--('Kirjaukset FI'!$M$9:$M$209=$A16),--('Kirjaukset FI'!$A$9:$A$209="KIRJAUS"),--('Kirjaukset FI'!$R$9:$R$209="acre"),'Kirjaukset FI'!$Q$9:$Q$209)) | D16: =IF($A16="","",SUMPRODUCT(--('Kirjaukset FI'!$M$9:$M$209=$A16),--('Kirjaukset FI'!$A$9:$A$209="KIRJAUS"),--('Kirjaukset FI'!$R$9:$R$209="m²"),'Kirjaukset FI'!$Q$9:$Q$209)) | E16: =IF($A16="","",SUMPRODUCT(--('Kirjaukset FI'!$M$9:$M$209=$A16),--('Kirjaukset FI'!$A$9:$A$209="KIRJAUS"),--('Kirjaukset FI'!$Q$9:$Q$209=""))+SUMPRODUCT(--('Kirjaukset FI'!$M$9:$M$209=$A16),--('Kirjaukset FI'!$A$9:$A$209="KIRJAUS"),--('Kirjaukset FI'!$Q$9:$Q$209<>""),--('Kirjaukset FI'!$R$9:$R$209=""))) | G16: =IF(AND('Kirjaukset FI'!A16="KIRJAUS",'Kirjaukset FI'!J16<>""),IF(SUMPRODUCT(--('Kirjaukset FI'!$J$9:J16='Kirjaukset FI'!J16),--('Kirjaukset FI'!$A$9:A16="KIRJAUS"))=1,'Kirjaukset FI'!J16,""),"") | H16: =IF($G16="","",SUMPRODUCT(--('Kirjaukset FI'!$J$9:$J$209=$G16),--('Kirjaukset FI'!$A$9:$A$209="KIRJAUS"),--('Kirjaukset FI'!$R$9:$R$209="ha"),'Kirjaukset FI'!$Q$9:$Q$209)) | I16: =IF($G16="","",SUMPRODUCT(--('Kirjaukset FI'!$J$9:$J$209=$G16),--('Kirjaukset FI'!$A$9:$A$209="KIRJAUS"),--('Kirjaukset FI'!$R$9:$R$209="acre"),'Kirjaukset FI'!$Q$9:$Q$209)) | J16: =IF($G16="","",SUMPRODUCT(--('Kirjaukset FI'!$J$9:$J$209=$G16),--('Kirjaukset FI'!$A$9:$A$209="KIRJAUS"),--('Kirjaukset FI'!$R$9:$R$209="m²"),'Kirjaukset FI'!$Q$9:$Q$209)) | K16: =IF($G16="","",SUMPRODUCT(--('Kirjaukset FI'!$J$9:$J$209=$G16),--('Kirjaukset FI'!$A$9:$A$209="KIRJAUS"),--('Kirjaukset FI'!$Q$9:$Q$209=""))+SUMPRODUCT(--('Kirjaukset FI'!$J$9:$J$209=$G16),--('Kirjaukset FI'!$A$9:$A$209="KIRJAUS"),--('Kirjaukset FI'!$Q$9:$Q$209<>""),--('Kirjaukset FI'!$R$9:$R$209="")))
A17: =IF(AND('Kirjaukset FI'!A17="KIRJAUS",'Kirjaukset FI'!M17<>""),IF(SUMPRODUCT(--('Kirjaukset FI'!$M$9:M17='Kirjaukset FI'!M17),--('Kirjaukset FI'!$A$9:A17="KIRJAUS"))=1,'Kirjaukset FI'!M17,""),"") | B17: =IF($A17="","",SUMPRODUCT(--('Kirjaukset FI'!$M$9:$M$209=$A17),--('Kirjaukset FI'!$A$9:$A$209="KIRJAUS"),--('Kirjaukset FI'!$R$9:$R$209="ha"),'Kirjaukset FI'!$Q$9:$Q$209)) | C17: =IF($A17="","",SUMPRODUCT(--('Kirjaukset FI'!$M$9:$M$209=$A17),--('Kirjaukset FI'!$A$9:$A$209="KIRJAUS"),--('Kirjaukset FI'!$R$9:$R$209="acre"),'Kirjaukset FI'!$Q$9:$Q$209)) | D17: =IF($A17="","",SUMPRODUCT(--('Kirjaukset FI'!$M$9:$M$209=$A17),--('Kirjaukset FI'!$A$9:$A$209="KIRJAUS"),--('Kirjaukset FI'!$R$9:$R$209="m²"),'Kirjaukset FI'!$Q$9:$Q$209)) | E17: =IF($A17="","",SUMPRODUCT(--('Kirjaukset FI'!$M$9:$M$209=$A17),--('Kirjaukset FI'!$A$9:$A$209="KIRJAUS"),--('Kirjaukset FI'!$Q$9:$Q$209=""))+SUMPRODUCT(--('Kirjaukset FI'!$M$9:$M$209=$A17),--('Kirjaukset FI'!$A$9:$A$209="KIRJAUS"),--('Kirjaukset FI'!$Q$9:$Q$209<>""),--('Kirjaukset FI'!$R$9:$R$209=""))) | G17: =IF(AND('Kirjaukset FI'!A17="KIRJAUS",'Kirjaukset FI'!J17<>""),IF(SUMPRODUCT(--('Kirjaukset FI'!$J$9:J17='Kirjaukset FI'!J17),--('Kirjaukset FI'!$A$9:A17="KIRJAUS"))=1,'Kirjaukset FI'!J17,""),"") | H17: =IF($G17="","",SUMPRODUCT(--('Kirjaukset FI'!$J$9:$J$209=$G17),--('Kirjaukset FI'!$A$9:$A$209="KIRJAUS"),--('Kirjaukset FI'!$R$9:$R$209="ha"),'Kirjaukset FI'!$Q$9:$Q$209)) | I17: =IF($G17="","",SUMPRODUCT(--('Kirjaukset FI'!$J$9:$J$209=$G17),--('Kirjaukset FI'!$A$9:$A$209="KIRJAUS"),--('Kirjaukset FI'!$R$9:$R$209="acre"),'Kirjaukset FI'!$Q$9:$Q$209)) | J17: =IF($G17="","",SUMPRODUCT(--('Kirjaukset FI'!$J$9:$J$209=$G17),--('Kirjaukset FI'!$A$9:$A$209="KIRJAUS"),--('Kirjaukset FI'!$R$9:$R$209="m²"),'Kirjaukset FI'!$Q$9:$Q$209)) | K17: =IF($G17="","",SUMPRODUCT(--('Kirjaukset FI'!$J$9:$J$209=$G17),--('Kirjaukset FI'!$A$9:$A$209="KIRJAUS"),--('Kirjaukset FI'!$Q$9:$Q$209=""))+SUMPRODUCT(--('Kirjaukset FI'!$J$9:$J$209=$G17),--('Kirjaukset FI'!$A$9:$A$209="KIRJAUS"),--('Kirjaukset FI'!$Q$9:$Q$209<>""),--('Kirjaukset FI'!$R$9:$R$209="")))
A18: =IF(AND('Kirjaukset FI'!A18="KIRJAUS",'Kirjaukset FI'!M18<>""),IF(SUMPRODUCT(--('Kirjaukset FI'!$M$9:M18='Kirjaukset FI'!M18),--('Kirjaukset FI'!$A$9:A18="KIRJAUS"))=1,'Kirjaukset FI'!M18,""),"") | B18: =IF($A18="","",SUMPRODUCT(--('Kirjaukset FI'!$M$9:$M$209=$A18),--('Kirjaukset FI'!$A$9:$A$209="KIRJAUS"),--('Kirjaukset FI'!$R$9:$R$209="ha"),'Kirjaukset FI'!$Q$9:$Q$209)) | C18: =IF($A18="","",SUMPRODUCT(--('Kirjaukset FI'!$M$9:$M$209=$A18),--('Kirjaukset FI'!$A$9:$A$209="KIRJAUS"),--('Kirjaukset FI'!$R$9:$R$209="acre"),'Kirjaukset FI'!$Q$9:$Q$209)) | D18: =IF($A18="","",SUMPRODUCT(--('Kirjaukset FI'!$M$9:$M$209=$A18),--('Kirjaukset FI'!$A$9:$A$209="KIRJAUS"),--('Kirjaukset FI'!$R$9:$R$209="m²"),'Kirjaukset FI'!$Q$9:$Q$209)) | E18: =IF($A18="","",SUMPRODUCT(--('Kirjaukset FI'!$M$9:$M$209=$A18),--('Kirjaukset FI'!$A$9:$A$209="KIRJAUS"),--('Kirjaukset FI'!$Q$9:$Q$209=""))+SUMPRODUCT(--('Kirjaukset FI'!$M$9:$M$209=$A18),--('Kirjaukset FI'!$A$9:$A$209="KIRJAUS"),--('Kirjaukset FI'!$Q$9:$Q$209<>""),--('Kirjaukset FI'!$R$9:$R$209=""))) | G18: =IF(AND('Kirjaukset FI'!A18="KIRJAUS",'Kirjaukset FI'!J18<>""),IF(SUMPRODUCT(--('Kirjaukset FI'!$J$9:J18='Kirjaukset FI'!J18),--('Kirjaukset FI'!$A$9:A18="KIRJAUS"))=1,'Kirjaukset FI'!J18,""),"") | H18: =IF($G18="","",SUMPRODUCT(--('Kirjaukset FI'!$J$9:$J$209=$G18),--('Kirjaukset FI'!$A$9:$A$209="KIRJAUS"),--('Kirjaukset FI'!$R$9:$R$209="ha"),'Kirjaukset FI'!$Q$9:$Q$209)) | I18: =IF($G18="","",SUMPRODUCT(--('Kirjaukset FI'!$J$9:$J$209=$G18),--('Kirjaukset FI'!$A$9:$A$209="KIRJAUS"),--('Kirjaukset FI'!$R$9:$R$209="acre"),'Kirjaukset FI'!$Q$9:$Q$209)) | J18: =IF($G18="","",SUMPRODUCT(--('Kirjaukset FI'!$J$9:$J$209=$G18),--('Kirjaukset FI'!$A$9:$A$209="KIRJAUS"),--('Kirjaukset FI'!$R$9:$R$209="m²"),'Kirjaukset FI'!$Q$9:$Q$209)) | K18: =IF($G18="","",SUMPRODUCT(--('Kirjaukset FI'!$J$9:$J$209=$G18),--('Kirjaukset FI'!$A$9:$A$209="KIRJAUS"),--('Kirjaukset FI'!$Q$9:$Q$209=""))+SUMPRODUCT(--('Kirjaukset FI'!$J$9:$J$209=$G18),--('Kirjaukset FI'!$A$9:$A$209="KIRJAUS"),--('Kirjaukset FI'!$Q$9:$Q$209<>""),--('Kirjaukset FI'!$R$9:$R$209="")))
A19: =IF(AND('Kirjaukset FI'!A19="KIRJAUS",'Kirjaukset FI'!M19<>""),IF(SUMPRODUCT(--('Kirjaukset FI'!$M$9:M19='Kirjaukset FI'!M19),--('Kirjaukset FI'!$A$9:A19="KIRJAUS"))=1,'Kirjaukset FI'!M19,""),"") | B19: =IF($A19="","",SUMPRODUCT(--('Kirjaukset FI'!$M$9:$M$209=$A19),--('Kirjaukset FI'!$A$9:$A$209="KIRJAUS"),--('Kirjaukset FI'!$R$9:$R$209="ha"),'Kirjaukset FI'!$Q$9:$Q$209)) | C19: =IF($A19="","",SUMPRODUCT(--('Kirjaukset FI'!$M$9:$M$209=$A19),--('Kirjaukset FI'!$A$9:$A$209="KIRJAUS"),--('Kirjaukset FI'!$R$9:$R$209="acre"),'Kirjaukset FI'!$Q$9:$Q$209)) | D19: =IF($A19="","",SUMPRODUCT(--('Kirjaukset FI'!$M$9:$M$209=$A19),--('Kirjaukset FI'!$A$9:$A$209="KIRJAUS"),--('Kirjaukset FI'!$R$9:$R$209="m²"),'Kirjaukset FI'!$Q$9:$Q$209)) | E19: =IF($A19="","",SUMPRODUCT(--('Kirjaukset FI'!$M$9:$M$209=$A19),--('Kirjaukset FI'!$A$9:$A$209="KIRJAUS"),--('Kirjaukset FI'!$Q$9:$Q$209=""))+SUMPRODUCT(--('Kirjaukset FI'!$M$9:$M$209=$A19),--('Kirjaukset FI'!$A$9:$A$209="KIRJAUS"),--('Kirjaukset FI'!$Q$9:$Q$209<>""),--('Kirjaukset FI'!$R$9:$R$209=""))) | G19: =IF(AND('Kirjaukset FI'!A19="KIRJAUS",'Kirjaukset FI'!J19<>""),IF(SUMPRODUCT(--('Kirjaukset FI'!$J$9:J19='Kirjaukset FI'!J19),--('Kirjaukset FI'!$A$9:A19="KIRJAUS"))=1,'Kirjaukset FI'!J19,""),"") | H19: =IF($G19="","",SUMPRODUCT(--('Kirjaukset FI'!$J$9:$J$209=$G19),--('Kirjaukset FI'!$A$9:$A$209="KIRJAUS"),--('Kirjaukset FI'!$R$9:$R$209="ha"),'Kirjaukset FI'!$Q$9:$Q$209)) | I19: =IF($G19="","",SUMPRODUCT(--('Kirjaukset FI'!$J$9:$J$209=$G19),--('Kirjaukset FI'!$A$9:$A$209="KIRJAUS"),--('Kirjaukset FI'!$R$9:$R$209="acre"),'Kirjaukset FI'!$Q$9:$Q$209)) | J19: =IF($G19="","",SUMPRODUCT(--('Kirjaukset FI'!$J$9:$J$209=$G19),--('Kirjaukset FI'!$A$9:$A$209="KIRJAUS"),--('Kirjaukset FI'!$R$9:$R$209="m²"),'Kirjaukset FI'!$Q$9:$Q$209)) | K19: =IF($G19="","",SUMPRODUCT(--('Kirjaukset FI'!$J$9:$J$209=$G19),--('Kirjaukset FI'!$A$9:$A$209="KIRJAUS"),--('Kirjaukset FI'!$Q$9:$Q$209=""))+SUMPRODUCT(--('Kirjaukset FI'!$J$9:$J$209=$G19),--('Kirjaukset FI'!$A$9:$A$209="KIRJAUS"),--('Kirjaukset FI'!$Q$9:$Q$209<>""),--('Kirjaukset FI'!$R$9:$R$209="")))
A20: =IF(AND('Kirjaukset FI'!A20="KIRJAUS",'Kirjaukset FI'!M20<>""),IF(SUMPRODUCT(--('Kirjaukset FI'!$M$9:M20='Kirjaukset FI'!M20),--('Kirjaukset FI'!$A$9:A20="KIRJAUS"))=1,'Kirjaukset FI'!M20,""),"") | B20: =IF($A20="","",SUMPRODUCT(--('Kirjaukset FI'!$M$9:$M$209=$A20),--('Kirjaukset FI'!$A$9:$A$209="KIRJAUS"),--('Kirjaukset FI'!$R$9:$R$209="ha"),'Kirjaukset FI'!$Q$9:$Q$209)) | C20: =IF($A20="","",SUMPRODUCT(--('Kirjaukset FI'!$M$9:$M$209=$A20),--('Kirjaukset FI'!$A$9:$A$209="KIRJAUS"),--('Kirjaukset FI'!$R$9:$R$209="acre"),'Kirjaukset FI'!$Q$9:$Q$209)) | D20: =IF($A20="","",SUMPRODUCT(--('Kirjaukset FI'!$M$9:$M$209=$A20),--('Kirjaukset FI'!$A$9:$A$209="KIRJAUS"),--('Kirjaukset FI'!$R$9:$R$209="m²"),'Kirjaukset FI'!$Q$9:$Q$209)) | E20: =IF($A20="","",SUMPRODUCT(--('Kirjaukset FI'!$M$9:$M$209=$A20),--('Kirjaukset FI'!$A$9:$A$209="KIRJAUS"),--('Kirjaukset FI'!$Q$9:$Q$209=""))+SUMPRODUCT(--('Kirjaukset FI'!$M$9:$M$209=$A20),--('Kirjaukset FI'!$A$9:$A$209="KIRJAUS"),--('Kirjaukset FI'!$Q$9:$Q$209<>""),--('Kirjaukset FI'!$R$9:$R$209=""))) | G20: =IF(AND('Kirjaukset FI'!A20="KIRJAUS",'Kirjaukset FI'!J20<>""),IF(SUMPRODUCT(--('Kirjaukset FI'!$J$9:J20='Kirjaukset FI'!J20),--('Kirjaukset FI'!$A$9:A20="KIRJAUS"))=1,'Kirjaukset FI'!J20,""),"") | H20: =IF($G20="","",SUMPRODUCT(--('Kirjaukset FI'!$J$9:$J$209=$G20),--('Kirjaukset FI'!$A$9:$A$209="KIRJAUS"),--('Kirjaukset FI'!$R$9:$R$209="ha"),'Kirjaukset FI'!$Q$9:$Q$209)) | I20: =IF($G20="","",SUMPRODUCT(--('Kirjaukset FI'!$J$9:$J$209=$G20),--('Kirjaukset FI'!$A$9:$A$209="KIRJAUS"),--('Kirjaukset FI'!$R$9:$R$209="acre"),'Kirjaukset FI'!$Q$9:$Q$209)) | J20: =IF($G20="","",SUMPRODUCT(--('Kirjaukset FI'!$J$9:$J$209=$G20),--('Kirjaukset FI'!$A$9:$A$209="KIRJAUS"),--('Kirjaukset FI'!$R$9:$R$209="m²"),'Kirjaukset FI'!$Q$9:$Q$209)) | K20: =IF($G20="","",SUMPRODUCT(--('Kirjaukset FI'!$J$9:$J$209=$G20),--('Kirjaukset FI'!$A$9:$A$209="KIRJAUS"),--('Kirjaukset FI'!$Q$9:$Q$209=""))+SUMPRODUCT(--('Kirjaukset FI'!$J$9:$J$209=$G20),--('Kirjaukset FI'!$A$9:$A$209="KIRJAUS"),--('Kirjaukset FI'!$Q$9:$Q$209<>""),--('Kirjaukset FI'!$R$9:$R$209="")))
... A209: =IF(AND('Kirjaukset FI'!A209="KIRJAUS",'Kirjaukset FI'!M209<>""),IF(SUMPRODUCT(--('Kirjaukset FI'!$M$9:M209='Kirjaukset FI'!M209),--('Kirjaukset FI'!$A$9:A209="KIRJAUS"))=1,'Kirjaukset FI'!M209,""),"") | B209: =IF($A209="","",SUMPRODUCT(--('Kirjaukset FI'!$M$9:$M$209=$A209),--('Kirjaukset FI'!$A$9:$A$209="KIRJAUS"),--('Kirjaukset FI'!$R$9:$R$209="ha"),'Kirjaukset FI'!$Q$9:$Q$209)) | C209: =IF($A209="","",SUMPRODUCT(--('Kirjaukset FI'!$M$9:$M$209=$A209),--('Kirjaukset FI'!$A$9:$A$209="KIRJAUS"),--('Kirjaukset FI'!$R$9:$R$209="acre"),'Kirjaukset FI'!$Q$9:$Q$209)) | D209: =IF($A209="","",SUMPRODUCT(--('Kirjaukset FI'!$M$9:$M$209=$A209),--('Kirjaukset FI'!$A$9:$A$209="KIRJAUS"),--('Kirjaukset FI'!$R$9:$R$209="m²"),'Kirjaukset FI'!$Q$9:$Q$209)) | E209: =IF($A209="","",SUMPRODUCT(--('Kirjaukset FI'!$M$9:$M$209=$A209),--('Kirjaukset FI'!$A$9:$A$209="KIRJAUS"),--('Kirjaukset FI'!$Q$9:$Q$209=""))+SUMPRODUCT(--('Kirjaukset FI'!$M$9:$M$209=$A209),--('Kirjaukset FI'!$A$9:$A$209="KIRJAUS"),--('Kirjaukset FI'!$Q$9:$Q$209<>""),--('Kirjaukset FI'!$R$9:$R$209=""))) | G209: =IF(AND('Kirjaukset FI'!A209="KIRJAUS",'Kirjaukset FI'!J209<>""),IF(SUMPRODUCT(--('Kirjaukset FI'!$J$9:J209='Kirjaukset FI'!J209),--('Kirjaukset FI'!$A$9:A209="KIRJAUS"))=1,'Kirjaukset FI'!J209,""),"") | H209: =IF($G209="","",SUMPRODUCT(--('Kirjaukset FI'!$J$9:$J$209=$G209),--('Kirjaukset FI'!$A$9:$A$209="KIRJAUS"),--('Kirjaukset FI'!$R$9:$R$209="ha"),'Kirjaukset FI'!$Q$9:$Q$209)) | I209: =IF($G209="","",SUMPRODUCT(--('Kirjaukset FI'!$J$9:$J$209=$G209),--('Kirjaukset FI'!$A$9:$A$209="KIRJAUS"),--('Kirjaukset FI'!$R$9:$R$209="acre"),'Kirjaukset FI'!$Q$9:$Q$209)) | J209: =IF($G209="","",SUMPRODUCT(--('Kirjaukset FI'!$J$9:$J$209=$G209),--('Kirjaukset FI'!$A$9:$A$209="KIRJAUS"),--('Kirjaukset FI'!$R$9:$R$209="m²"),'Kirjaukset FI'!$Q$9:$Q$209)) | K209: =IF($G209="","",SUMPRODUCT(--('Kirjaukset FI'!$J$9:$J$209=$G209),--('Kirjaukset FI'!$A$9:$A$209="KIRJAUS"),--('Kirjaukset FI'!$Q$9:$Q$209=""))+SUMPRODUCT(--('Kirjaukset FI'!$J$9:$J$209=$G209),--('Kirjaukset FI'!$A$9:$A$209="KIRJAUS"),--('Kirjaukset FI'!$Q$9:$Q$209<>""),--('Kirjaukset FI'!$R$9:$R$209="")))

Sheet Kenttien vaatimusten peruste FI
A2: Leafwrit | FI | Kenttien vaatimusten peruste
A3: Kentät viitattujen sääntöjen mukaan ilmoitetulla soveltamisalalla. Leafwrit-työpohja, ei virallinen eikä viranomaisen hyväksymä.
A4: Ammattikäyttö: EU:n tiedot ja Tukesin ohjeet. Kasviryhmäkoodi riittää ohjeen mukaan; kellonaika ja BBCH tarvittaessa.
A5: Tyhjä työpohja. Soveltamisala ja lähteet: mukana oleva XLSX. Liitä vaaditut alkuperäiset tositteet.
A7: # | B7: Kenttä | C7: Soveltamisala | D7: Oikeusperusta / lähde | E7: Lähteen URL | F7: Luettu | G7: Lähdetiedon tunnus
A8: 1 | B8: Rivin tyyppi | C8: Apukenttä; lakisääteistä velvoitetta ei väitetä | D8: Apukenttä; lakisääteistä velvoitetta ei väitetä
A9: 2 | B9: Käsittelyn / säiliön tunnus | C9: Apukenttä; lakisääteistä velvoitetta ei väitetä | D9: Apukenttä; lakisääteistä velvoitetta ei väitetä
A10: 3 | B10: Tila / haltija | C10: Apukenttä; lakisääteistä velvoitetta ei väitetä | D10: Apukenttä; lakisääteistä velvoitetta ei väitetä
A11: 4 | B11: Alue / kunta | C11: Apukenttä; lakisääteistä velvoitetta ei väitetä | D11: Apukenttä; lakisääteistä velvoitetta ei väitetä
A12: 5 | B12: Käsittelypäivä | C12: Pakollinen ilmoitetulla soveltamisalalla | D12: Asetus (EU) 2023/564, liite; ammattikäyttö käsittelytavan mukaan | E12: https://eur-lex.europa.eu/legal-content/EN/ALL/?uri=CELEX%3A32023R0564 | F12: 2026-10-23 | G12: FI-EU-03
A13: 5 | B13: Käsittelypäivä | C13: Viranomaisen malli / ohje, ei yleinen lakivelvoite | D13: Tukes, kasvinsuojeluaineiden kirjanpito; sijainti ja käyttökohde | E13: https://tukes.fi/kasvinsuojeluaineiden-kirjanpito | F13: 2026-10-23 | G13: FI-03
A14: 6 | B14: Aloitusaika | C14: Ehdollinen; katso soveltamisala | D14: Asetus (EU) 2023/564, liite; aika/BBCH lupaehtojen mukaan, EPPO soveltuvin osin | E14: https://eur-lex.europa.eu/legal-content/EN/ALL/?uri=CELEX%3A32023R0564 | F14: 2026-10-23 | G14: FI-EU-03
A15: 6 | B15: Aloitusaika | C15: Ehdollinen; katso soveltamisala | D15: Tukes; kellonaika ja BBCH vain käyttöohjeen rajoittaessa ajankohtaa tai kasvuvaihetta | E15: https://tukes.fi/kasvinsuojeluaineiden-kirjanpito | F15: 2026-10-23 | G15: FI-04
A16: 7 | B16: Päättymispäivä | C16: Apukenttä; lakisääteistä velvoitetta ei väitetä | D16: Apukenttä; lakisääteistä velvoitetta ei väitetä
A17: 8 | B17: Päättymisaika | C17: Apukenttä; lakisääteistä velvoitetta ei väitetä | D17: Apukenttä; lakisääteistä velvoitetta ei väitetä
A18: 9 | B18: Käyttötapa | C18: Pakollinen ilmoitetulla soveltamisalalla | D18: Asetus (EU) 2023/564, liite; ammattikäyttö käsittelytavan mukaan | E18: https://eur-lex.europa.eu/legal-content/EN/ALL/?uri=CELEX%3A32023R0564 | F18: 2026-10-23 | G18: FI-EU-03
A19: 9 | B19: Käyttötapa | C19: Viranomaisen malli / ohje, ei yleinen lakivelvoite | D19: Tukes, kasvinsuojeluaineiden kirjanpito; sijainti ja käyttökohde | E19: https://tukes.fi/kasvinsuojeluaineiden-kirjanpito | F19: 2026-10-23 | G19: FI-03
A20: 10 | B20: Lohkon tunnus | C20: Pakollinen ilmoitetulla soveltamisalalla | D20: Asetus (EU) 2023/564, liite; ammattikäyttö käsittelytavan mukaan | E20: https://eur-lex.europa.eu/legal-content/EN/ALL/?uri=CELEX%3A32023R0564 | F20: 2026-10-23 | G20: FI-EU-03
A21: 10 | B21: Lohkon tunnus | C21: Viranomaisen malli / ohje, ei yleinen lakivelvoite | D21: Tukes, kasvinsuojeluaineiden kirjanpito; sijainti ja käyttökohde | E21: https://tukes.fi/kasvinsuojeluaineiden-kirjanpito | F21: 2026-10-23 | G21: FI-03
A22: 11 | B22: Tarkka sijainti / laitos | C22: Pakollinen ilmoitetulla soveltamisalalla | D22: Asetus (EU) 2023/564, liite; ammattikäyttö käsittelytavan mukaan | E22: https://eur-lex.europa.eu/legal-content/EN/ALL/?uri=CELEX%3A32023R0564 | F22: 2026-10-23 | G22: FI-EU-03
A23: 11 | B23: Tarkka sijainti / laitos | C23: Viranomaisen malli / ohje, ei yleinen lakivelvoite | D23: Tukes, kasvinsuojeluaineiden kirjanpito; sijainti ja käyttökohde | E23: https://tukes.fi/kasvinsuojeluaineiden-kirjanpito | F23: 2026-10-23 | G23: FI-03
A24: 12 | B24: Viljelykasvi / tuote / maankäyttö | C24: Pakollinen ilmoitetulla soveltamisalalla | D24: Asetus (EU) 2023/564, liite; ammattikäyttö käsittelytavan mukaan | E24: https://eur-lex.europa.eu/legal-content/EN/ALL/?uri=CELEX%3A32023R0564 | F24: 2026-10-23 | G24: FI-EU-03
A25: 12 | B25: Viljelykasvi / tuote / maankäyttö | C25: Viranomaisen malli / ohje, ei yleinen lakivelvoite | D25: Tukes, kasvinsuojeluaineiden kirjanpito; sijainti ja käyttökohde | E25: https://tukes.fi/kasvinsuojeluaineiden-kirjanpito | F25: 2026-10-23 | G25: FI-03
A26: 13 | B26: Valmisteen koko nimi | C26: Pakollinen ilmoitetulla soveltamisalalla | D26: Asetus (EU) 2023/564, liite; ammattikäyttö käsittelytavan mukaan | E26: https://eur-lex.europa.eu/legal-content/EN/ALL/?uri=CELEX%3A32023R0564 | F26: 2026-10-23 | G26: FI-EU-03
A27: 13 | B27: Valmisteen koko nimi | C27: Viranomaisen malli / ohje, ei yleinen lakivelvoite | D27: Tukes, kasvinsuojeluaineiden kirjanpito; sijainti ja käyttökohde | E27: https://tukes.fi/kasvinsuojeluaineiden-kirjanpito | F27: 2026-10-23 | G27: FI-03
A28: 14 | B28: Rekisterinumero | C28: Pakollinen ilmoitetulla soveltamisalalla | D28: Asetus (EU) 2023/564, liite; ammattikäyttö käsittelytavan mukaan | E28: https://eur-lex.europa.eu/legal-content/EN/ALL/?uri=CELEX%3A32023R0564 | F28: 2026-10-23 | G28: FI-EU-03
A29: 14 | B29: Rekisterinumero | C29: Viranomaisen malli / ohje, ei yleinen lakivelvoite | D29: Tukes, kasvinsuojeluaineiden kirjanpito; sijainti ja käyttökohde | E29: https://tukes.fi/kasvinsuojeluaineiden-kirjanpito | F29: 2026-10-23 | G29: FI-03
... A37: 18 | B37: Pinta-alan / määrän yksikkö | C37: Viranomaisen malli / ohje, ei yleinen lakivelvoite | D37: Tukes, kasvinsuojeluaineiden kirjanpito; sijainti ja käyttökohde | E37: https://tukes.fi/kasvinsuojeluaineiden-kirjanpito | F37: 2026-10-23 | G37: FI-03
A38: 19 | B38: Käsittelyn tekijän nimi | C38: Apukenttä; lakisääteistä velvoitetta ei väitetä | D38: Apukenttä; lakisääteistä velvoitetta ei väitetä
A39: 20 | B39: Huomautukset / lisäehdot | C39: Apukenttä; lakisääteistä velvoitetta ei väitetä | D39: Apukenttä; lakisääteistä velvoitetta ei väitetä
A40: 21 | B40: EPPO-koodi; ohjeen kasviryhmäkoodi riittää | C40: Ehdollinen; katso soveltamisala | D40: Asetus (EU) 2023/564, liite; aika/BBCH lupaehtojen mukaan, EPPO soveltuvin osin | E40: https://eur-lex.europa.eu/legal-content/EN/ALL/?uri=CELEX%3A32023R0564 | F40: 2026-10-23 | G40: FI-EU-03
A41: 21 | B41: EPPO-koodi; ohjeen kasviryhmäkoodi riittää | C41: Viranomaisen malli / ohje, ei yleinen lakivelvoite | D41: Tukes, kasvinsuojeluaineiden kirjanpito; sijainti ja käyttökohde | E41: https://tukes.fi/kasvinsuojeluaineiden-kirjanpito | F41: 2026-10-23 | G41: FI-03
A42: 21 | B42: EPPO-koodi; ohjeen kasviryhmäkoodi riittää | C42: Viranomaisen malli / ohje, ei yleinen lakivelvoite | D42: Tukes; luettelon kasviryhmäkoodi riittää, lajikohtainen koodi mahdollinen | E42: https://tukes.fi/sv/bokforing-av-vaxtskyddsmedel | F42: 2026-10-23 | G42: FI-06
A43: 22 | B43: BBCH-vaihe, jos tarpeen | C43: Ehdollinen; katso soveltamisala | D43: Asetus (EU) 2023/564, liite; aika/BBCH lupaehtojen mukaan, EPPO soveltuvin osin | E43: https://eur-lex.europa.eu/legal-content/EN/ALL/?uri=CELEX%3A32023R0564 | F43: 2026-10-23 | G43: FI-EU-03
A44: 22 | B44: BBCH-vaihe, jos tarpeen | C44: Ehdollinen; katso soveltamisala | D44: Tukes; kellonaika ja BBCH vain käyttöohjeen rajoittaessa ajankohtaa tai kasvuvaihetta | E44: https://tukes.fi/kasvinsuojeluaineiden-kirjanpito | F44: 2026-10-23 | G44: FI-04
A45: 23 | B45: Siemen- / materiaalierä, jos tarpeen | C45: Ehdollinen; katso soveltamisala | D45: Asetus (EU) 2023/564, liite; siemen- / materiaalierä tarvittaessa | E45: https://eur-lex.europa.eu/legal-content/EN/ALL/?uri=CELEX%3A32023R0564 | F45: 2026-10-23 | G45: FI-EU-04
A46: 24 | B46: Havaitut tuholaiset / taudit ja havaintopäivä | C46: Ehdollinen; katso soveltamisala | D46: Ruokavirasto, kirjaamisvaatimukset 2026; ympäristö-/luomusitoumuksen havainnot ja perustelut soveltuvin osin | E46: https://www.ruokavirasto.fi/sv/stod/jordbruk/guider/ansokningsguider/krav-pa-journalforing-av-jordbruksproduktion/krav-pa-journalforing-av-jordbruksproduktion-2026/ | F46: 2026-10-23 | G46: FI-18
A47: 25 | B47: Torjunnan peruste / ennaltaehkäisevät toimet | C47: Ehdollinen; katso soveltamisala | D47: Ruokavirasto, kirjaamisvaatimukset 2026; ympäristö-/luomusitoumuksen havainnot ja perustelut soveltuvin osin | E47: https://www.ruokavirasto.fi/sv/stod/jordbruk/guider/ansokningsguider/krav-pa-journalforing-av-jordbruksproduktion/krav-pa-journalforing-av-jordbruksproduktion-2026/ | F47: 2026-10-23 | G47: FI-18

Sheet Luettelot FI
A2: Leafwrit | FI | Luettelot
A3: Valkoiset solut ja luettelot ovat muokattavia; kaavat on suojattu ilman salasanaa. Annokset eivät ole käyttösuosituksia.
A5: Rivin tyyppi | B5: Käyttötapa | C5: Pinta-alan / määrän yksikkö | D5: Käyttömäärän yksikkö | E5: Tuotemäärän yksikkö | F5: m/s, km/h | G5: N, NE, E, SE, S, SW, W, NW | H5: Valmisteen koko nimi | I5: Lohkon tunnus
A6: KIRJAUS | B6: Pintakäsittely | C6: ha | D6: L/ha | E6: L | F6: m/s | G6: N
A7: ESIMERKKI | B7: Käsittely suljetussa tilassa | C7: acre | D7: kg/ha | E7: mL | F7: km/h | G7: NE
B8: Siementen / lisäysaineiston käsittely | C8: m² | D8: g/ha | E8: kg | F8: mph | G8: E
B9: Muu: selitä huomautuksissa | C9: m³ | D9: mL/ha | E9: g | F9: Muu: selitä huomautuksissa | G9: SE
C10: kg | D10: L/m² | E10: Muu: selitä huomautuksissa | G10: S
C11: t | D11: kg/m² | G11: SW
C12: kpl | D12: L/m³ | G12: W
C13: Muu: selitä huomautuksissa | D13: kg/m³ | G13: NW
D14: L/kg | G14: Muu: selitä huomautuksissa
D15: kg/kg
D16: g/kg
D17: L/t
D18: kg/t
D19: g/L
D20: mL/L
D21: L/1000
D22: kg/1000
D23: mL/100 L
D24: g/100 L
D25: mL/daa
D26: g/daa
D27: Muu: selitä huomautuksissa

Sheet Poster SV
A2: Leafwrit | FI | Bokföring av växtskyddsmedel
A3: En rad per preparat och behandling. Ange exakt plats och enheter. EXEMPEL utesluts. Utöka alla formler vid fler än 200 poster.
A4: Vita celler och listor kan redigeras; formler skyddas utan lösenord. Doser är inte användningsrekommendationer.
A5: Yrkesmässig användning: EU-uppgifter och Tukes anvisningar. Grödgruppskod enligt anvisningen; tid och BBCH vid behov.
A6: Fält enligt citerade regler inom angivet område. Leafwrit-arbetsmall, inte officiell eller myndighetsgodkänd.
A7: Språkblad är alternativ. Använd ett språk per datamängd.
A8: [01] Radtyp | B8: [02] Behandlings- / tank-ID | C8: [03] Företag / brukare | D8: [04] Län / kommun | E8: [05] Behandlingsdatum | F8: [06] Starttid | G8: [07] Slutdatum | H8: [08] Sluttid | I8: [09] Användningstyp | J8: [10] Skiftesbeteckning | K8: [11] Exakt plats / anläggning | L8: [12] Gröda / produkt / markanvändning | M8: [13] Preparatets fullständiga namn | N8: [14] Registreringsnummer | O8: [15] Använd dos | P8: [16] Dosenhet | Q8: [17] Behandlad areal / mängd | R8: [18] Enhet för areal / mängd | S8: [19] Utförarens för- och efternamn | T8: [20] Anteckningar / ytterligare villkor | U8: [21] EPPO-kod; grödgruppskod enligt Tukes anvisning | V8: [22] BBCH-stadium, om relevant | W8: [23] Utsädes- / materialparti, om relevant | X8: [24] Observerade skadegörare / sjukdomar och datum | Y8: [25] Behandlingsmotiv / förebyggande åtgärder
A9: EXEMPEL | B9: EXEMPEL-001 | C9: EXEMPEL | E9: 46023 | F9: 0.375 | I9: Ytbehandling | J9: EXEMPEL A | K9: EXEMPEL | L9: EXEMPEL | M9: EXEMPEL A | Q9: 1.25 | R9: ha | T9: EXEMPEL
A10: POST
A11: POST
A12: POST
A13: POST
A14: POST
A15: POST
A16: POST
A17: POST
A18: POST
A19: POST
A20: POST
A21: POST
... A209: POST

Sheet Sammanställning SV
A2: Leafwrit | FI | Sammanställning
A3: Summor per preparat / skifte och separata enheter, inte unik markareal. Tomma nycklar och EXEMPEL utesluts.
A4: En rad per preparat och behandling. Ange exakt plats och enheter. EXEMPEL utesluts. Utöka alla formler vid fler än 200 poster.
A5: Språkblad är alternativ. Använd ett språk per datamängd.
A6: Ofullständiga poster = Behandlad areal / mängd / Enhet för areal / mängd
A7: Per preparat | G7: Per skifte
A8: Preparatets fullständiga namn | B8: ha | C8: acre | D8: m² | E8: Ofullständiga poster | G8: Skiftesbeteckning | H8: ha | I8: acre | J8: m² | K8: Ofullständiga poster
A9: =IF(AND('Poster SV'!A9="POST",'Poster SV'!M9<>""),IF(SUMPRODUCT(--('Poster SV'!$M$9:M9='Poster SV'!M9),--('Poster SV'!$A$9:A9="POST"))=1,'Poster SV'!M9,""),"") | B9: =IF($A9="","",SUMPRODUCT(--('Poster SV'!$M$9:$M$209=$A9),--('Poster SV'!$A$9:$A$209="POST"),--('Poster SV'!$R$9:$R$209="ha"),'Poster SV'!$Q$9:$Q$209)) | C9: =IF($A9="","",SUMPRODUCT(--('Poster SV'!$M$9:$M$209=$A9),--('Poster SV'!$A$9:$A$209="POST"),--('Poster SV'!$R$9:$R$209="acre"),'Poster SV'!$Q$9:$Q$209)) | D9: =IF($A9="","",SUMPRODUCT(--('Poster SV'!$M$9:$M$209=$A9),--('Poster SV'!$A$9:$A$209="POST"),--('Poster SV'!$R$9:$R$209="m²"),'Poster SV'!$Q$9:$Q$209)) | E9: =IF($A9="","",SUMPRODUCT(--('Poster SV'!$M$9:$M$209=$A9),--('Poster SV'!$A$9:$A$209="POST"),--('Poster SV'!$Q$9:$Q$209=""))+SUMPRODUCT(--('Poster SV'!$M$9:$M$209=$A9),--('Poster SV'!$A$9:$A$209="POST"),--('Poster SV'!$Q$9:$Q$209<>""),--('Poster SV'!$R$9:$R$209=""))) | G9: =IF(AND('Poster SV'!A9="POST",'Poster SV'!J9<>""),IF(SUMPRODUCT(--('Poster SV'!$J$9:J9='Poster SV'!J9),--('Poster SV'!$A$9:A9="POST"))=1,'Poster SV'!J9,""),"") | H9: =IF($G9="","",SUMPRODUCT(--('Poster SV'!$J$9:$J$209=$G9),--('Poster SV'!$A$9:$A$209="POST"),--('Poster SV'!$R$9:$R$209="ha"),'Poster SV'!$Q$9:$Q$209)) | I9: =IF($G9="","",SUMPRODUCT(--('Poster SV'!$J$9:$J$209=$G9),--('Poster SV'!$A$9:$A$209="POST"),--('Poster SV'!$R$9:$R$209="acre"),'Poster SV'!$Q$9:$Q$209)) | J9: =IF($G9="","",SUMPRODUCT(--('Poster SV'!$J$9:$J$209=$G9),--('Poster SV'!$A$9:$A$209="POST"),--('Poster SV'!$R$9:$R$209="m²"),'Poster SV'!$Q$9:$Q$209)) | K9: =IF($G9="","",SUMPRODUCT(--('Poster SV'!$J$9:$J$209=$G9),--('Poster SV'!$A$9:$A$209="POST"),--('Poster SV'!$Q$9:$Q$209=""))+SUMPRODUCT(--('Poster SV'!$J$9:$J$209=$G9),--('Poster SV'!$A$9:$A$209="POST"),--('Poster SV'!$Q$9:$Q$209<>""),--('Poster SV'!$R$9:$R$209="")))
A10: =IF(AND('Poster SV'!A10="POST",'Poster SV'!M10<>""),IF(SUMPRODUCT(--('Poster SV'!$M$9:M10='Poster SV'!M10),--('Poster SV'!$A$9:A10="POST"))=1,'Poster SV'!M10,""),"") | B10: =IF($A10="","",SUMPRODUCT(--('Poster SV'!$M$9:$M$209=$A10),--('Poster SV'!$A$9:$A$209="POST"),--('Poster SV'!$R$9:$R$209="ha"),'Poster SV'!$Q$9:$Q$209)) | C10: =IF($A10="","",SUMPRODUCT(--('Poster SV'!$M$9:$M$209=$A10),--('Poster SV'!$A$9:$A$209="POST"),--('Poster SV'!$R$9:$R$209="acre"),'Poster SV'!$Q$9:$Q$209)) | D10: =IF($A10="","",SUMPRODUCT(--('Poster SV'!$M$9:$M$209=$A10),--('Poster SV'!$A$9:$A$209="POST"),--('Poster SV'!$R$9:$R$209="m²"),'Poster SV'!$Q$9:$Q$209)) | E10: =IF($A10="","",SUMPRODUCT(--('Poster SV'!$M$9:$M$209=$A10),--('Poster SV'!$A$9:$A$209="POST"),--('Poster SV'!$Q$9:$Q$209=""))+SUMPRODUCT(--('Poster SV'!$M$9:$M$209=$A10),--('Poster SV'!$A$9:$A$209="POST"),--('Poster SV'!$Q$9:$Q$209<>""),--('Poster SV'!$R$9:$R$209=""))) | G10: =IF(AND('Poster SV'!A10="POST",'Poster SV'!J10<>""),IF(SUMPRODUCT(--('Poster SV'!$J$9:J10='Poster SV'!J10),--('Poster SV'!$A$9:A10="POST"))=1,'Poster SV'!J10,""),"") | H10: =IF($G10="","",SUMPRODUCT(--('Poster SV'!$J$9:$J$209=$G10),--('Poster SV'!$A$9:$A$209="POST"),--('Poster SV'!$R$9:$R$209="ha"),'Poster SV'!$Q$9:$Q$209)) | I10: =IF($G10="","",SUMPRODUCT(--('Poster SV'!$J$9:$J$209=$G10),--('Poster SV'!$A$9:$A$209="POST"),--('Poster SV'!$R$9:$R$209="acre"),'Poster SV'!$Q$9:$Q$209)) | J10: =IF($G10="","",SUMPRODUCT(--('Poster SV'!$J$9:$J$209=$G10),--('Poster SV'!$A$9:$A$209="POST"),--('Poster SV'!$R$9:$R$209="m²"),'Poster SV'!$Q$9:$Q$209)) | K10: =IF($G10="","",SUMPRODUCT(--('Poster SV'!$J$9:$J$209=$G10),--('Poster SV'!$A$9:$A$209="POST"),--('Poster SV'!$Q$9:$Q$209=""))+SUMPRODUCT(--('Poster SV'!$J$9:$J$209=$G10),--('Poster SV'!$A$9:$A$209="POST"),--('Poster SV'!$Q$9:$Q$209<>""),--('Poster SV'!$R$9:$R$209="")))
A11: =IF(AND('Poster SV'!A11="POST",'Poster SV'!M11<>""),IF(SUMPRODUCT(--('Poster SV'!$M$9:M11='Poster SV'!M11),--('Poster SV'!$A$9:A11="POST"))=1,'Poster SV'!M11,""),"") | B11: =IF($A11="","",SUMPRODUCT(--('Poster SV'!$M$9:$M$209=$A11),--('Poster SV'!$A$9:$A$209="POST"),--('Poster SV'!$R$9:$R$209="ha"),'Poster SV'!$Q$9:$Q$209)) | C11: =IF($A11="","",SUMPRODUCT(--('Poster SV'!$M$9:$M$209=$A11),--('Poster SV'!$A$9:$A$209="POST"),--('Poster SV'!$R$9:$R$209="acre"),'Poster SV'!$Q$9:$Q$209)) | D11: =IF($A11="","",SUMPRODUCT(--('Poster SV'!$M$9:$M$209=$A11),--('Poster SV'!$A$9:$A$209="POST"),--('Poster SV'!$R$9:$R$209="m²"),'Poster SV'!$Q$9:$Q$209)) | E11: =IF($A11="","",SUMPRODUCT(--('Poster SV'!$M$9:$M$209=$A11),--('Poster SV'!$A$9:$A$209="POST"),--('Poster SV'!$Q$9:$Q$209=""))+SUMPRODUCT(--('Poster SV'!$M$9:$M$209=$A11),--('Poster SV'!$A$9:$A$209="POST"),--('Poster SV'!$Q$9:$Q$209<>""),--('Poster SV'!$R$9:$R$209=""))) | G11: =IF(AND('Poster SV'!A11="POST",'Poster SV'!J11<>""),IF(SUMPRODUCT(--('Poster SV'!$J$9:J11='Poster SV'!J11),--('Poster SV'!$A$9:A11="POST"))=1,'Poster SV'!J11,""),"") | H11: =IF($G11="","",SUMPRODUCT(--('Poster SV'!$J$9:$J$209=$G11),--('Poster SV'!$A$9:$A$209="POST"),--('Poster SV'!$R$9:$R$209="ha"),'Poster SV'!$Q$9:$Q$209)) | I11: =IF($G11="","",SUMPRODUCT(--('Poster SV'!$J$9:$J$209=$G11),--('Poster SV'!$A$9:$A$209="POST"),--('Poster SV'!$R$9:$R$209="acre"),'Poster SV'!$Q$9:$Q$209)) | J11: =IF($G11="","",SUMPRODUCT(--('Poster SV'!$J$9:$J$209=$G11),--('Poster SV'!$A$9:$A$209="POST"),--('Poster SV'!$R$9:$R$209="m²"),'Poster SV'!$Q$9:$Q$209)) | K11: =IF($G11="","",SUMPRODUCT(--('Poster SV'!$J$9:$J$209=$G11),--('Poster SV'!$A$9:$A$209="POST"),--('Poster SV'!$Q$9:$Q$209=""))+SUMPRODUCT(--('Poster SV'!$J$9:$J$209=$G11),--('Poster SV'!$A$9:$A$209="POST"),--('Poster SV'!$Q$9:$Q$209<>""),--('Poster SV'!$R$9:$R$209="")))
A12: =IF(AND('Poster SV'!A12="POST",'Poster SV'!M12<>""),IF(SUMPRODUCT(--('Poster SV'!$M$9:M12='Poster SV'!M12),--('Poster SV'!$A$9:A12="POST"))=1,'Poster SV'!M12,""),"") | B12: =IF($A12="","",SUMPRODUCT(--('Poster SV'!$M$9:$M$209=$A12),--('Poster SV'!$A$9:$A$209="POST"),--('Poster SV'!$R$9:$R$209="ha"),'Poster SV'!$Q$9:$Q$209)) | C12: =IF($A12="","",SUMPRODUCT(--('Poster SV'!$M$9:$M$209=$A12),--('Poster SV'!$A$9:$A$209="POST"),--('Poster SV'!$R$9:$R$209="acre"),'Poster SV'!$Q$9:$Q$209)) | D12: =IF($A12="","",SUMPRODUCT(--('Poster SV'!$M$9:$M$209=$A12),--('Poster SV'!$A$9:$A$209="POST"),--('Poster SV'!$R$9:$R$209="m²"),'Poster SV'!$Q$9:$Q$209)) | E12: =IF($A12="","",SUMPRODUCT(--('Poster SV'!$M$9:$M$209=$A12),--('Poster SV'!$A$9:$A$209="POST"),--('Poster SV'!$Q$9:$Q$209=""))+SUMPRODUCT(--('Poster SV'!$M$9:$M$209=$A12),--('Poster SV'!$A$9:$A$209="POST"),--('Poster SV'!$Q$9:$Q$209<>""),--('Poster SV'!$R$9:$R$209=""))) | G12: =IF(AND('Poster SV'!A12="POST",'Poster SV'!J12<>""),IF(SUMPRODUCT(--('Poster SV'!$J$9:J12='Poster SV'!J12),--('Poster SV'!$A$9:A12="POST"))=1,'Poster SV'!J12,""),"") | H12: =IF($G12="","",SUMPRODUCT(--('Poster SV'!$J$9:$J$209=$G12),--('Poster SV'!$A$9:$A$209="POST"),--('Poster SV'!$R$9:$R$209="ha"),'Poster SV'!$Q$9:$Q$209)) | I12: =IF($G12="","",SUMPRODUCT(--('Poster SV'!$J$9:$J$209=$G12),--('Poster SV'!$A$9:$A$209="POST"),--('Poster SV'!$R$9:$R$209="acre"),'Poster SV'!$Q$9:$Q$209)) | J12: =IF($G12="","",SUMPRODUCT(--('Poster SV'!$J$9:$J$209=$G12),--('Poster SV'!$A$9:$A$209="POST"),--('Poster SV'!$R$9:$R$209="m²"),'Poster SV'!$Q$9:$Q$209)) | K12: =IF($G12="","",SUMPRODUCT(--('Poster SV'!$J$9:$J$209=$G12),--('Poster SV'!$A$9:$A$209="POST"),--('Poster SV'!$Q$9:$Q$209=""))+SUMPRODUCT(--('Poster SV'!$J$9:$J$209=$G12),--('Poster SV'!$A$9:$A$209="POST"),--('Poster SV'!$Q$9:$Q$209<>""),--('Poster SV'!$R$9:$R$209="")))
A13: =IF(AND('Poster SV'!A13="POST",'Poster SV'!M13<>""),IF(SUMPRODUCT(--('Poster SV'!$M$9:M13='Poster SV'!M13),--('Poster SV'!$A$9:A13="POST"))=1,'Poster SV'!M13,""),"") | B13: =IF($A13="","",SUMPRODUCT(--('Poster SV'!$M$9:$M$209=$A13),--('Poster SV'!$A$9:$A$209="POST"),--('Poster SV'!$R$9:$R$209="ha"),'Poster SV'!$Q$9:$Q$209)) | C13: =IF($A13="","",SUMPRODUCT(--('Poster SV'!$M$9:$M$209=$A13),--('Poster SV'!$A$9:$A$209="POST"),--('Poster SV'!$R$9:$R$209="acre"),'Poster SV'!$Q$9:$Q$209)) | D13: =IF($A13="","",SUMPRODUCT(--('Poster SV'!$M$9:$M$209=$A13),--('Poster SV'!$A$9:$A$209="POST"),--('Poster SV'!$R$9:$R$209="m²"),'Poster SV'!$Q$9:$Q$209)) | E13: =IF($A13="","",SUMPRODUCT(--('Poster SV'!$M$9:$M$209=$A13),--('Poster SV'!$A$9:$A$209="POST"),--('Poster SV'!$Q$9:$Q$209=""))+SUMPRODUCT(--('Poster SV'!$M$9:$M$209=$A13),--('Poster SV'!$A$9:$A$209="POST"),--('Poster SV'!$Q$9:$Q$209<>""),--('Poster SV'!$R$9:$R$209=""))) | G13: =IF(AND('Poster SV'!A13="POST",'Poster SV'!J13<>""),IF(SUMPRODUCT(--('Poster SV'!$J$9:J13='Poster SV'!J13),--('Poster SV'!$A$9:A13="POST"))=1,'Poster SV'!J13,""),"") | H13: =IF($G13="","",SUMPRODUCT(--('Poster SV'!$J$9:$J$209=$G13),--('Poster SV'!$A$9:$A$209="POST"),--('Poster SV'!$R$9:$R$209="ha"),'Poster SV'!$Q$9:$Q$209)) | I13: =IF($G13="","",SUMPRODUCT(--('Poster SV'!$J$9:$J$209=$G13),--('Poster SV'!$A$9:$A$209="POST"),--('Poster SV'!$R$9:$R$209="acre"),'Poster SV'!$Q$9:$Q$209)) | J13: =IF($G13="","",SUMPRODUCT(--('Poster SV'!$J$9:$J$209=$G13),--('Poster SV'!$A$9:$A$209="POST"),--('Poster SV'!$R$9:$R$209="m²"),'Poster SV'!$Q$9:$Q$209)) | K13: =IF($G13="","",SUMPRODUCT(--('Poster SV'!$J$9:$J$209=$G13),--('Poster SV'!$A$9:$A$209="POST"),--('Poster SV'!$Q$9:$Q$209=""))+SUMPRODUCT(--('Poster SV'!$J$9:$J$209=$G13),--('Poster SV'!$A$9:$A$209="POST"),--('Poster SV'!$Q$9:$Q$209<>""),--('Poster SV'!$R$9:$R$209="")))
A14: =IF(AND('Poster SV'!A14="POST",'Poster SV'!M14<>""),IF(SUMPRODUCT(--('Poster SV'!$M$9:M14='Poster SV'!M14),--('Poster SV'!$A$9:A14="POST"))=1,'Poster SV'!M14,""),"") | B14: =IF($A14="","",SUMPRODUCT(--('Poster SV'!$M$9:$M$209=$A14),--('Poster SV'!$A$9:$A$209="POST"),--('Poster SV'!$R$9:$R$209="ha"),'Poster SV'!$Q$9:$Q$209)) | C14: =IF($A14="","",SUMPRODUCT(--('Poster SV'!$M$9:$M$209=$A14),--('Poster SV'!$A$9:$A$209="POST"),--('Poster SV'!$R$9:$R$209="acre"),'Poster SV'!$Q$9:$Q$209)) | D14: =IF($A14="","",SUMPRODUCT(--('Poster SV'!$M$9:$M$209=$A14),--('Poster SV'!$A$9:$A$209="POST"),--('Poster SV'!$R$9:$R$209="m²"),'Poster SV'!$Q$9:$Q$209)) | E14: =IF($A14="","",SUMPRODUCT(--('Poster SV'!$M$9:$M$209=$A14),--('Poster SV'!$A$9:$A$209="POST"),--('Poster SV'!$Q$9:$Q$209=""))+SUMPRODUCT(--('Poster SV'!$M$9:$M$209=$A14),--('Poster SV'!$A$9:$A$209="POST"),--('Poster SV'!$Q$9:$Q$209<>""),--('Poster SV'!$R$9:$R$209=""))) | G14: =IF(AND('Poster SV'!A14="POST",'Poster SV'!J14<>""),IF(SUMPRODUCT(--('Poster SV'!$J$9:J14='Poster SV'!J14),--('Poster SV'!$A$9:A14="POST"))=1,'Poster SV'!J14,""),"") | H14: =IF($G14="","",SUMPRODUCT(--('Poster SV'!$J$9:$J$209=$G14),--('Poster SV'!$A$9:$A$209="POST"),--('Poster SV'!$R$9:$R$209="ha"),'Poster SV'!$Q$9:$Q$209)) | I14: =IF($G14="","",SUMPRODUCT(--('Poster SV'!$J$9:$J$209=$G14),--('Poster SV'!$A$9:$A$209="POST"),--('Poster SV'!$R$9:$R$209="acre"),'Poster SV'!$Q$9:$Q$209)) | J14: =IF($G14="","",SUMPRODUCT(--('Poster SV'!$J$9:$J$209=$G14),--('Poster SV'!$A$9:$A$209="POST"),--('Poster SV'!$R$9:$R$209="m²"),'Poster SV'!$Q$9:$Q$209)) | K14: =IF($G14="","",SUMPRODUCT(--('Poster SV'!$J$9:$J$209=$G14),--('Poster SV'!$A$9:$A$209="POST"),--('Poster SV'!$Q$9:$Q$209=""))+SUMPRODUCT(--('Poster SV'!$J$9:$J$209=$G14),--('Poster SV'!$A$9:$A$209="POST"),--('Poster SV'!$Q$9:$Q$209<>""),--('Poster SV'!$R$9:$R$209="")))
A15: =IF(AND('Poster SV'!A15="POST",'Poster SV'!M15<>""),IF(SUMPRODUCT(--('Poster SV'!$M$9:M15='Poster SV'!M15),--('Poster SV'!$A$9:A15="POST"))=1,'Poster SV'!M15,""),"") | B15: =IF($A15="","",SUMPRODUCT(--('Poster SV'!$M$9:$M$209=$A15),--('Poster SV'!$A$9:$A$209="POST"),--('Poster SV'!$R$9:$R$209="ha"),'Poster SV'!$Q$9:$Q$209)) | C15: =IF($A15="","",SUMPRODUCT(--('Poster SV'!$M$9:$M$209=$A15),--('Poster SV'!$A$9:$A$209="POST"),--('Poster SV'!$R$9:$R$209="acre"),'Poster SV'!$Q$9:$Q$209)) | D15: =IF($A15="","",SUMPRODUCT(--('Poster SV'!$M$9:$M$209=$A15),--('Poster SV'!$A$9:$A$209="POST"),--('Poster SV'!$R$9:$R$209="m²"),'Poster SV'!$Q$9:$Q$209)) | E15: =IF($A15="","",SUMPRODUCT(--('Poster SV'!$M$9:$M$209=$A15),--('Poster SV'!$A$9:$A$209="POST"),--('Poster SV'!$Q$9:$Q$209=""))+SUMPRODUCT(--('Poster SV'!$M$9:$M$209=$A15),--('Poster SV'!$A$9:$A$209="POST"),--('Poster SV'!$Q$9:$Q$209<>""),--('Poster SV'!$R$9:$R$209=""))) | G15: =IF(AND('Poster SV'!A15="POST",'Poster SV'!J15<>""),IF(SUMPRODUCT(--('Poster SV'!$J$9:J15='Poster SV'!J15),--('Poster SV'!$A$9:A15="POST"))=1,'Poster SV'!J15,""),"") | H15: =IF($G15="","",SUMPRODUCT(--('Poster SV'!$J$9:$J$209=$G15),--('Poster SV'!$A$9:$A$209="POST"),--('Poster SV'!$R$9:$R$209="ha"),'Poster SV'!$Q$9:$Q$209)) | I15: =IF($G15="","",SUMPRODUCT(--('Poster SV'!$J$9:$J$209=$G15),--('Poster SV'!$A$9:$A$209="POST"),--('Poster SV'!$R$9:$R$209="acre"),'Poster SV'!$Q$9:$Q$209)) | J15: =IF($G15="","",SUMPRODUCT(--('Poster SV'!$J$9:$J$209=$G15),--('Poster SV'!$A$9:$A$209="POST"),--('Poster SV'!$R$9:$R$209="m²"),'Poster SV'!$Q$9:$Q$209)) | K15: =IF($G15="","",SUMPRODUCT(--('Poster SV'!$J$9:$J$209=$G15),--('Poster SV'!$A$9:$A$209="POST"),--('Poster SV'!$Q$9:$Q$209=""))+SUMPRODUCT(--('Poster SV'!$J$9:$J$209=$G15),--('Poster SV'!$A$9:$A$209="POST"),--('Poster SV'!$Q$9:$Q$209<>""),--('Poster SV'!$R$9:$R$209="")))
A16: =IF(AND('Poster SV'!A16="POST",'Poster SV'!M16<>""),IF(SUMPRODUCT(--('Poster SV'!$M$9:M16='Poster SV'!M16),--('Poster SV'!$A$9:A16="POST"))=1,'Poster SV'!M16,""),"") | B16: =IF($A16="","",SUMPRODUCT(--('Poster SV'!$M$9:$M$209=$A16),--('Poster SV'!$A$9:$A$209="POST"),--('Poster SV'!$R$9:$R$209="ha"),'Poster SV'!$Q$9:$Q$209)) | C16: =IF($A16="","",SUMPRODUCT(--('Poster SV'!$M$9:$M$209=$A16),--('Poster SV'!$A$9:$A$209="POST"),--('Poster SV'!$R$9:$R$209="acre"),'Poster SV'!$Q$9:$Q$209)) | D16: =IF($A16="","",SUMPRODUCT(--('Poster SV'!$M$9:$M$209=$A16),--('Poster SV'!$A$9:$A$209="POST"),--('Poster SV'!$R$9:$R$209="m²"),'Poster SV'!$Q$9:$Q$209)) | E16: =IF($A16="","",SUMPRODUCT(--('Poster SV'!$M$9:$M$209=$A16),--('Poster SV'!$A$9:$A$209="POST"),--('Poster SV'!$Q$9:$Q$209=""))+SUMPRODUCT(--('Poster SV'!$M$9:$M$209=$A16),--('Poster SV'!$A$9:$A$209="POST"),--('Poster SV'!$Q$9:$Q$209<>""),--('Poster SV'!$R$9:$R$209=""))) | G16: =IF(AND('Poster SV'!A16="POST",'Poster SV'!J16<>""),IF(SUMPRODUCT(--('Poster SV'!$J$9:J16='Poster SV'!J16),--('Poster SV'!$A$9:A16="POST"))=1,'Poster SV'!J16,""),"") | H16: =IF($G16="","",SUMPRODUCT(--('Poster SV'!$J$9:$J$209=$G16),--('Poster SV'!$A$9:$A$209="POST"),--('Poster SV'!$R$9:$R$209="ha"),'Poster SV'!$Q$9:$Q$209)) | I16: =IF($G16="","",SUMPRODUCT(--('Poster SV'!$J$9:$J$209=$G16),--('Poster SV'!$A$9:$A$209="POST"),--('Poster SV'!$R$9:$R$209="acre"),'Poster SV'!$Q$9:$Q$209)) | J16: =IF($G16="","",SUMPRODUCT(--('Poster SV'!$J$9:$J$209=$G16),--('Poster SV'!$A$9:$A$209="POST"),--('Poster SV'!$R$9:$R$209="m²"),'Poster SV'!$Q$9:$Q$209)) | K16: =IF($G16="","",SUMPRODUCT(--('Poster SV'!$J$9:$J$209=$G16),--('Poster SV'!$A$9:$A$209="POST"),--('Poster SV'!$Q$9:$Q$209=""))+SUMPRODUCT(--('Poster SV'!$J$9:$J$209=$G16),--('Poster SV'!$A$9:$A$209="POST"),--('Poster SV'!$Q$9:$Q$209<>""),--('Poster SV'!$R$9:$R$209="")))
A17: =IF(AND('Poster SV'!A17="POST",'Poster SV'!M17<>""),IF(SUMPRODUCT(--('Poster SV'!$M$9:M17='Poster SV'!M17),--('Poster SV'!$A$9:A17="POST"))=1,'Poster SV'!M17,""),"") | B17: =IF($A17="","",SUMPRODUCT(--('Poster SV'!$M$9:$M$209=$A17),--('Poster SV'!$A$9:$A$209="POST"),--('Poster SV'!$R$9:$R$209="ha"),'Poster SV'!$Q$9:$Q$209)) | C17: =IF($A17="","",SUMPRODUCT(--('Poster SV'!$M$9:$M$209=$A17),--('Poster SV'!$A$9:$A$209="POST"),--('Poster SV'!$R$9:$R$209="acre"),'Poster SV'!$Q$9:$Q$209)) | D17: =IF($A17="","",SUMPRODUCT(--('Poster SV'!$M$9:$M$209=$A17),--('Poster SV'!$A$9:$A$209="POST"),--('Poster SV'!$R$9:$R$209="m²"),'Poster SV'!$Q$9:$Q$209)) | E17: =IF($A17="","",SUMPRODUCT(--('Poster SV'!$M$9:$M$209=$A17),--('Poster SV'!$A$9:$A$209="POST"),--('Poster SV'!$Q$9:$Q$209=""))+SUMPRODUCT(--('Poster SV'!$M$9:$M$209=$A17),--('Poster SV'!$A$9:$A$209="POST"),--('Poster SV'!$Q$9:$Q$209<>""),--('Poster SV'!$R$9:$R$209=""))) | G17: =IF(AND('Poster SV'!A17="POST",'Poster SV'!J17<>""),IF(SUMPRODUCT(--('Poster SV'!$J$9:J17='Poster SV'!J17),--('Poster SV'!$A$9:A17="POST"))=1,'Poster SV'!J17,""),"") | H17: =IF($G17="","",SUMPRODUCT(--('Poster SV'!$J$9:$J$209=$G17),--('Poster SV'!$A$9:$A$209="POST"),--('Poster SV'!$R$9:$R$209="ha"),'Poster SV'!$Q$9:$Q$209)) | I17: =IF($G17="","",SUMPRODUCT(--('Poster SV'!$J$9:$J$209=$G17),--('Poster SV'!$A$9:$A$209="POST"),--('Poster SV'!$R$9:$R$209="acre"),'Poster SV'!$Q$9:$Q$209)) | J17: =IF($G17="","",SUMPRODUCT(--('Poster SV'!$J$9:$J$209=$G17),--('Poster SV'!$A$9:$A$209="POST"),--('Poster SV'!$R$9:$R$209="m²"),'Poster SV'!$Q$9:$Q$209)) | K17: =IF($G17="","",SUMPRODUCT(--('Poster SV'!$J$9:$J$209=$G17),--('Poster SV'!$A$9:$A$209="POST"),--('Poster SV'!$Q$9:$Q$209=""))+SUMPRODUCT(--('Poster SV'!$J$9:$J$209=$G17),--('Poster SV'!$A$9:$A$209="POST"),--('Poster SV'!$Q$9:$Q$209<>""),--('Poster SV'!$R$9:$R$209="")))
